BEGIN:VCALENDAR
PRODID:Nexudus
VERSION:2.0
BEGIN:VTIMEZONE
TZID:Europe/Paris
X-LIC-LOCATION:Europe/Paris
BEGIN:STANDARD
DTSTART:20241027T030000
RRULE:FREQ=YEARLY;BYDAY=-1SU;BYMONTH=10
TZNAME:CET
TZOFFSETFROM:+0200
TZOFFSETTO:+0100
END:STANDARD
BEGIN:DAYLIGHT
DTSTART:20250330T020000
RRULE:FREQ=YEARLY;BYDAY=-1SU;BYMONTH=3
TZNAME:CEST
TZOFFSETFROM:+0100
TZOFFSETTO:+0200
END:DAYLIGHT
END:VTIMEZONE
BEGIN:VEVENT
DESCRIPTION:El espectáculo comienza con un concursante que sale a escena b
 uscando\nel plató donde se realizará un casting para elegir el mejor mag
 o de España.\nInstantes después este primer mago realizará su número d
 elante del jurado\ncompuesto por tres miembros de una élite artística in
 ternacional. El argumento\ngeneral de la obra se basa en un “talent show
 ” televisivo\, tan de\nmoda actualmente. No solo vemos grandes artistas 
 con prestigio nacional\ne internacional\, estamos asistiendo a un concurso
  de talentos en una obra\nteatral. La magia no es gratuita\, sucede por al
 go.\nEvent link: https://teatroavanti.spaces.nexudus.com/en/events/view/94
 1522590/imagix-3-0---cía--art---ilusions-3-0---viernes-26-abril--21-00-ho
 ras-\n
DTEND;TZID=Europe/Paris:20190426T230000
DTSTAMP:20260422T115153Z
DTSTART;TZID=Europe/Paris:20190426T210000
LOCATION:Teatro Avanti
SEQUENCE:0
SUMMARY:IMAGIX 3.0 - Cía: Art & Ilusions 3.0 - Viernes 26 Abril (21:00 hor
 as)
UID:42505477-f2ef-4b55-8823-542654b2f9b0
END:VEVENT
END:VCALENDAR
