BEGIN:VCALENDAR
PRODID:Nexudus
VERSION:2.0
BEGIN:VTIMEZONE
TZID:Europe/Paris
X-LIC-LOCATION:Europe/Paris
BEGIN:STANDARD
DTSTART:20241027T030000
RRULE:FREQ=YEARLY;BYDAY=-1SU;BYMONTH=10
TZNAME:CET
TZOFFSETFROM:+0200
TZOFFSETTO:+0100
END:STANDARD
BEGIN:DAYLIGHT
DTSTART:20250330T020000
RRULE:FREQ=YEARLY;BYDAY=-1SU;BYMONTH=3
TZNAME:CEST
TZOFFSETFROM:+0100
TZOFFSETTO:+0200
END:DAYLIGHT
END:VTIMEZONE
BEGIN:VEVENT
DESCRIPTION:“El Tren Chimeneo” es una divertida y entrañable fantasía
  inspirada en relatos\ny poemas de Gloria Fuertes que nos sumerge en el si
 ngular mundo de\nsu literatura: una literatura que inspira amor por la nat
 uraleza\, la paz y la\nlibertad\; a disfrutar de las palabras como si de u
 n juego se tratara.\nEvent link: https://teatroavanti.spaces.nexudus.com/e
 n/events/view/941367440/el-tren-chimeneo---cía--tras-el-trapo---domingo-7
 -abril--19-00-horas-\n
DTEND;TZID=Europe/Paris:20190407T200000
DTSTAMP:20260422T133242Z
DTSTART;TZID=Europe/Paris:20190407T190000
LOCATION:Teatro Avanti
SEQUENCE:0
SUMMARY:El Tren Chimeneo - Cía: Tras el Trapo - Domingo 7 Abril (19:00 hor
 as)
UID:6115da8a-67b6-465c-8c09-7fc1c336eee5
END:VEVENT
END:VCALENDAR
