BEGIN:VCALENDAR
PRODID:Nexudus
VERSION:2.0
BEGIN:VTIMEZONE
TZID:Europe/Paris
X-LIC-LOCATION:Europe/Paris
BEGIN:STANDARD
DTSTART:20241027T030000
RRULE:FREQ=YEARLY;BYDAY=-1SU;BYMONTH=10
TZNAME:CET
TZOFFSETFROM:+0200
TZOFFSETTO:+0100
END:STANDARD
BEGIN:DAYLIGHT
DTSTART:20250330T020000
RRULE:FREQ=YEARLY;BYDAY=-1SU;BYMONTH=3
TZNAME:CEST
TZOFFSETFROM:+0100
TZOFFSETTO:+0200
END:DAYLIGHT
END:VTIMEZONE
BEGIN:VEVENT
DESCRIPTION:8 FEBRERO ZAMBRA PASIFLORA. CÍA. PALACIO LUNA\n9 FEBRERO NO LE
  BUSQUES TRES PIERNAS AL ALCALDE.\nCÍA. DON LORENZO SANTA CRUZ\n15 FEBRER
 O EL PATIO 2\, “SE ARMO LA GORDA”. CÍA. AL TEQUOA\n16 FEBRERO LAS SE
 ÑORITAS DE AVIGNON. CÍA. TEATRO DEL ALMA\n22 FEBRERO PUEBLA DE LAS MUJER
 ES. CÍA. ATARDECER\n23 FEBRERO VICTORIA\, VIENE A CENAR. CÍA. TRITEATRAS
 \n2 MARZO MILAGRO EN EL CONVENTO DE SANTA MARÍA JUANA.\nCÍA. AMISTADES\n
 8 MARZO EL REY TIBURCIO BUSCA NOVIA. CÍA. CUARTA PARED\n9 MARZO A LA TERC
 ERA......QUIZÁS. CÍA. HISTORIAS DE PAPEL\n15  MARZO BODA POR LOS PELOS. 
 CÍA. LA CORDOBANA\n16 MARZO SE INFIEL Y NO MIRES CON QUIÉN. CÍA. LA TAR
 IMA\n23 MARZO BESTIAS DEL ALMA. CÍA. LOYOLA\nEvent link: https://teatroav
 anti.spaces.nexudus.com/en/events/view/784755976/xiii-muestra-de-teatro-af
 icionado----del-8-de-febrero-al-23-marzo--venta-de-entradas-exclusivamente
 -en-taquilla-\n
DTEND;TZID=Europe/Paris:20190323T220000
DTSTAMP:20260422T133032Z
DTSTART;TZID=Europe/Paris:20190208T210000
LOCATION:Teatro Avanti
SEQUENCE:0
SUMMARY:XIII MUESTRA DE TEATRO AFICIONADO -  DEL 8 DE FEBRERO AL 23 MARZO (
 Venta de entradas exclusivamente en taquilla)
UID:5c4fb831-baf7-47a2-aed0-602bb02af7b8
END:VEVENT
END:VCALENDAR
