BEGIN:VCALENDAR
PRODID:Nexudus
VERSION:2.0
BEGIN:VTIMEZONE
TZID:Europe/Paris
X-LIC-LOCATION:Europe/Paris
BEGIN:STANDARD
DTSTART:20241027T030000
RRULE:FREQ=YEARLY;BYDAY=-1SU;BYMONTH=10
TZNAME:CET
TZOFFSETFROM:+0200
TZOFFSETTO:+0100
END:STANDARD
BEGIN:DAYLIGHT
DTSTART:20250330T020000
RRULE:FREQ=YEARLY;BYDAY=-1SU;BYMONTH=3
TZNAME:CEST
TZOFFSETFROM:+0100
TZOFFSETTO:+0200
END:DAYLIGHT
END:VTIMEZONE
BEGIN:VEVENT
DESCRIPTION:En un reino muy\, muy lejano\, vivía una dulce niña con una p
 iel tan blanca que\ntodos la llamaban... Blancanieves. Su madrastra\, la r
 eina obsesionada por la\nbelleza\, buscaba un reino de perfección y a su 
 espejo encantado se miraba sin\nparar. Un día\, Blancanieves se adentró 
 en el bosque encantado y por siempre\ncambió. Jabetín teatro estrena: Bl
 ancanieves. Una nueva adaptación del Conejo\nBlanco con canciones en dire
 cto\, personajes misteriosos\, un bosque animado y\nmucho\, mucho humor.\n
 Event link: https://teatroavanti.spaces.nexudus.com/en/events/view/7847559
 75/blancanieves---jabetin-teatro---domingo-10-marzo--12-00-y-18-00-h-\n
DTEND;TZID=Europe/Paris:20190310T190000
DTSTAMP:20260422T133103Z
DTSTART;TZID=Europe/Paris:20190310T120000
LOCATION:Teatro Avanti
SEQUENCE:0
SUMMARY:Blancanieves - Jabetin Teatro - Domingo 10 Marzo (12:00 y 18:00 h)
UID:dccf3ce1-c951-4066-8370-c965e873786e
END:VEVENT
END:VCALENDAR
