BEGIN:VCALENDAR
PRODID:Nexudus
VERSION:2.0
BEGIN:VTIMEZONE
TZID:Europe/Paris
X-LIC-LOCATION:Europe/Paris
BEGIN:STANDARD
DTSTART:20241027T030000
RRULE:FREQ=YEARLY;BYDAY=-1SU;BYMONTH=10
TZNAME:CET
TZOFFSETFROM:+0200
TZOFFSETTO:+0100
END:STANDARD
BEGIN:DAYLIGHT
DTSTART:20250330T020000
RRULE:FREQ=YEARLY;BYDAY=-1SU;BYMONTH=3
TZNAME:CEST
TZOFFSETFROM:+0100
TZOFFSETTO:+0200
END:DAYLIGHT
END:VTIMEZONE
BEGIN:VEVENT
DESCRIPTION:Tras años de perderse la pista\, 5 amigos se reencuentran en u
 n piano bar\n“Entre Boleros”\, al escenario suben aficionados y tocan 
 juntos\, a veces\nsin conocerse\,... los amigos del protagonista deciden d
 arle una sorpresa y\nvan sumándose a las canciones que van sonando... Ent
 re sí\, van contando\nanécdotas de cada canción\, sus amores\, sus comp
 osiciones y su particular\nforma de ver la música actual.\nSe aúnan la t
 radición del bolero con los diversos folclores del mundo: Valses\nperuano
 s\, Tonadas Chilenas\, Zambas Argentinas\, Baladas Mexicanas...\nEvent lin
 k: https://teatroavanti.spaces.nexudus.com/en/events/view/774778012/entre-
 boleros---cía-los-medicinantes---viernes-11-enero--21-00-h--público-adul
 to\n
DTEND;TZID=Europe/Paris:20190111T220000
DTSTAMP:20260422T150709Z
DTSTART;TZID=Europe/Paris:20190111T210000
LOCATION:Teatro Avanti
SEQUENCE:0
SUMMARY:Entre boleros - Cía Los Medicinantes - Viernes 11 Enero (21:00 h) 
 Público Adulto
UID:bf286841-7d75-46e9-b2c3-3c2c2fa5875c
END:VEVENT
END:VCALENDAR
