BEGIN:VCALENDAR
PRODID:Nexudus
VERSION:2.0
BEGIN:VTIMEZONE
TZID:Europe/Paris
X-LIC-LOCATION:Europe/Paris
BEGIN:STANDARD
DTSTART:20241027T030000
RRULE:FREQ=YEARLY;BYDAY=-1SU;BYMONTH=10
TZNAME:CET
TZOFFSETFROM:+0200
TZOFFSETTO:+0100
END:STANDARD
BEGIN:DAYLIGHT
DTSTART:20250330T020000
RRULE:FREQ=YEARLY;BYDAY=-1SU;BYMONTH=3
TZNAME:CEST
TZOFFSETFROM:+0100
TZOFFSETTO:+0200
END:DAYLIGHT
END:VTIMEZONE
BEGIN:VEVENT
DESCRIPTION:Tres actrices provenientes de España\, Reino Unido e Italia se
  enfrentan sobre\nel escenario a una simple pero controvertida pregunta: 
 ¿Qué quieres para\ntu futuro?\n“Generación Why” es un trozo de vida
 \, un rito de paso\, un canto a la juventud\,\nun hogar itinerante\,un lug
 ar en el tiempo. Es el momento exacto en que\nse encuentran la convicción
  de que aún todo es posible y la certeza de que\ntodo acaba. ¿Qué mejor
  momento que éste para celebrar la vida?\nEvent link: https://teatroavant
 i.spaces.nexudus.com/en/events/view/769965199/generación-why---teatro-en-
 vilo---viernes-14-y-sábado-15-diciembre--21-00-h-\n
DTEND;TZID=Europe/Paris:20181215T230000
DTSTAMP:20260422T150628Z
DTSTART;TZID=Europe/Paris:20181214T210000
LOCATION:Teatro Avanti
SEQUENCE:0
SUMMARY:Generación Why - Teatro en Vilo - Viernes 14 y Sábado 15 Diciembr
 e (21:00 h)
UID:f98d6132-56de-41fb-a4e6-d6dce6e17359
END:VEVENT
END:VCALENDAR
