BEGIN:VCALENDAR
PRODID:Nexudus
VERSION:2.0
BEGIN:VTIMEZONE
TZID:Europe/Paris
X-LIC-LOCATION:Europe/Paris
BEGIN:STANDARD
DTSTART:20241027T030000
RRULE:FREQ=YEARLY;BYDAY=-1SU;BYMONTH=10
TZNAME:CET
TZOFFSETFROM:+0200
TZOFFSETTO:+0100
END:STANDARD
BEGIN:DAYLIGHT
DTSTART:20250330T020000
RRULE:FREQ=YEARLY;BYDAY=-1SU;BYMONTH=3
TZNAME:CEST
TZOFFSETFROM:+0100
TZOFFSETTO:+0200
END:DAYLIGHT
END:VTIMEZONE
BEGIN:VEVENT
DESCRIPTION:XIII Festival de Circo de Córdoba. En el andén de una antigua
  estación se\ncruza el destino de dos personajes que compartirán una ave
 ntura inolvidable.\nLo que en principio parecía ser un tranquilo y apacib
 le trayecto se irá\ntransformando en una ola de desafortunados sucesos qu
 e provocarán la\nrisas del público\, estimado compañero de viaje\, que 
 subirá a este tren para\ndisfrutar los distintos números de acrobacias\,
  manipulación de objetos y\nequilibrios\, que van mezclándose a lo largo
  de la obra con el predominante\nhumor gestual.\nEntrada en taquilla: Infa
 ntil 6 € -  Adultos: 7 €\nEvent link: https://teatroavanti.spaces.nexu
 dus.com/en/events/view/749720082/el-viaje-de-miercoles---cía--circobaya--
 -domingo-2-diciembre--18-00-horas-\n
DTEND;TZID=Europe/Paris:20181202T190000
DTSTAMP:20260422T150807Z
DTSTART;TZID=Europe/Paris:20181202T180000
LOCATION:Teatro Avanti
SEQUENCE:0
SUMMARY:EL VIAJE DE MIERCOLES - Cía: Circobaya - Domingo 2 Diciembre (18:0
 0 horas)
UID:12190fa5-3dd0-480d-849b-f29116527420
END:VEVENT
END:VCALENDAR
