BEGIN:VCALENDAR
PRODID:Nexudus
VERSION:2.0
BEGIN:VTIMEZONE
TZID:Europe/Paris
X-LIC-LOCATION:Europe/Paris
BEGIN:STANDARD
DTSTART:20241027T030000
RRULE:FREQ=YEARLY;BYDAY=-1SU;BYMONTH=10
TZNAME:CET
TZOFFSETFROM:+0200
TZOFFSETTO:+0100
END:STANDARD
BEGIN:DAYLIGHT
DTSTART:20250330T020000
RRULE:FREQ=YEARLY;BYDAY=-1SU;BYMONTH=3
TZNAME:CEST
TZOFFSETFROM:+0100
TZOFFSETTO:+0200
END:DAYLIGHT
END:VTIMEZONE
BEGIN:VEVENT
DESCRIPTION:XIII Festival de Circo de Córdoba. Por fin Mister Aloló y Mad
 ame Aloló tienen\nlisto su espectáculo. O eso creen ellos. Están decidi
 dos a compartirlo con el\nmundo\, pero sus desencuentros les llevarán a d
 isparatadas situaciones que\nharán muy difícil lograr su objetivo. ¿Lo 
 conseguirán?\nEquilibrios imposibles\, música en directo\, malabares\, a
 crobacias y magia\nse dan la mano en un divertido espectáculo donde puede
  pasar de todo.\n\nEntrada en taquilla: Infantil 6 € -  Adultos: 7 €\n
 Event link: https://teatroavanti.spaces.nexudus.com/en/events/view/7495993
 94/alolo-co---cía--circo-psicario---sábado-1-diciembre--18-00-horas-\n
DTEND;TZID=Europe/Paris:20181201T190000
DTSTAMP:20260422T150653Z
DTSTART;TZID=Europe/Paris:20181201T180000
LOCATION:Teatro Avanti
SEQUENCE:0
SUMMARY:ALOLO.CO - Cía. Circo Psicario - Sábado 1 Diciembre (18:00 horas)
UID:9786e01b-20fe-49ec-aaeb-939bb3465df0
END:VEVENT
END:VCALENDAR
