BEGIN:VCALENDAR
PRODID:Nexudus
VERSION:2.0
BEGIN:VTIMEZONE
TZID:Europe/Paris
X-LIC-LOCATION:Europe/Paris
BEGIN:STANDARD
DTSTART:20241027T030000
RRULE:FREQ=YEARLY;BYDAY=-1SU;BYMONTH=10
TZNAME:CET
TZOFFSETFROM:+0200
TZOFFSETTO:+0100
END:STANDARD
BEGIN:DAYLIGHT
DTSTART:20250330T020000
RRULE:FREQ=YEARLY;BYDAY=-1SU;BYMONTH=3
TZNAME:CEST
TZOFFSETFROM:+0100
TZOFFSETTO:+0200
END:DAYLIGHT
END:VTIMEZONE
BEGIN:VEVENT
DESCRIPTION:Versión teatral de un cuento del folclore popular alemán reco
 pilado por los\nHermanos Grimm. Nos narra la historia de Juan\, el hijo de
  unos granjeros\,\nmitad niño mitad erizo\, que crece sintiéndose difere
 nte y siendo marginado\nen la escuela. A través de las experiencias que v
 ive el protagonista\, desarrolladas\nentre el humor y la ternura\, se nos 
 invita a reflexionar sobre la\nnecesidad de valorarse a uno mismo y a los 
 demás\, de encontrar el valor\nde la diferencia y también de aquello que
  nos asemeja.\n\nEntrada en taquilla. Infantil: 6€ Adulto: 7€\nEvent l
 ink: https://teatroavanti.spaces.nexudus.com/en/events/view/749538849/el-n
 iño-erizo---cía--la-machina-teatro---domingo-9-diciembre--12-00-y-18-00-
 horas--público-familiar\n
DTEND;TZID=Europe/Paris:20181209T190000
DTSTAMP:20260422T150709Z
DTSTART;TZID=Europe/Paris:20181209T120000
LOCATION:Teatro Avanti
SEQUENCE:0
SUMMARY:EL NIÑO ERIZO - Cía: La Machina Teatro - Domingo 9 Diciembre (12:
 00 y 18:00 horas) Público Familiar
UID:2b657511-4d0d-4028-b21e-227b86efdd30
END:VEVENT
END:VCALENDAR
