BEGIN:VCALENDAR
PRODID:Nexudus
VERSION:2.0
BEGIN:VTIMEZONE
TZID:Europe/Paris
X-LIC-LOCATION:Europe/Paris
BEGIN:STANDARD
DTSTART:20241027T030000
RRULE:FREQ=YEARLY;BYDAY=-1SU;BYMONTH=10
TZNAME:CET
TZOFFSETFROM:+0200
TZOFFSETTO:+0100
END:STANDARD
BEGIN:DAYLIGHT
DTSTART:20250330T020000
RRULE:FREQ=YEARLY;BYDAY=-1SU;BYMONTH=3
TZNAME:CEST
TZOFFSETFROM:+0100
TZOFFSETTO:+0200
END:DAYLIGHT
END:VTIMEZONE
BEGIN:VEVENT
DESCRIPTION:“En la habitación” es un proceso\, un relato abierto\, pic
 tórico\, cambiante. Un\nlugar habitado por personajes hopperianos de hist
 orias ocultas\, ora plácidas\, ora\nextrañas. Lo que sucede en la habita
 ción va a seguir ocurriendo\, pero de otra\nforma\, en otro momento\, en 
 aquel rincón\, o puede que al otro lado.\nMujeres que se encuentran\, se 
 observan\, se aman\, a veces se tocan\, otras se\nrehuyen\, pero siempre r
 ompen sus silencios. Historias de encuentros aislados\,\nrecurrentes por n
 ecesidad\, de difícil encaje en un tiempo fuera de su época.\nEvent link
 : https://teatroavanti.spaces.nexudus.com/en/events/view/736013320/en-la-h
 abitacion---la-casquería---viernes-30-noviembre--21-00-h-\n
DTEND;TZID=Europe/Paris:20181130T230000
DTSTAMP:20260422T150627Z
DTSTART;TZID=Europe/Paris:20181130T210000
LOCATION:Teatro Avanti
SEQUENCE:0
SUMMARY:En la Habitacion - La Casquería - Viernes 30 Noviembre (21:00 h)
UID:02eeeb31-7d12-472f-8841-60d274f6d8ee
END:VEVENT
END:VCALENDAR
