BEGIN:VCALENDAR
PRODID:Nexudus
VERSION:2.0
BEGIN:VTIMEZONE
TZID:Europe/Paris
X-LIC-LOCATION:Europe/Paris
BEGIN:STANDARD
DTSTART:20241027T030000
RRULE:FREQ=YEARLY;BYDAY=-1SU;BYMONTH=10
TZNAME:CET
TZOFFSETFROM:+0200
TZOFFSETTO:+0100
END:STANDARD
BEGIN:DAYLIGHT
DTSTART:20250330T020000
RRULE:FREQ=YEARLY;BYDAY=-1SU;BYMONTH=3
TZNAME:CEST
TZOFFSETFROM:+0100
TZOFFSETTO:+0200
END:DAYLIGHT
END:VTIMEZONE
BEGIN:VEVENT
DESCRIPTION:¿Estáis listos para el rock and roll? Pues vais a tener un de
 sconcertante\nconcierto que quedará en vuestras memorias\, para ello cont
 aremos con\nlegendarios de la talla de Elvis\, Los Ramones\, AC/DC o Nirva
 na entre otros.\nEvent link: https://teatroavanti.spaces.nexudus.com/en/ev
 ents/view/736013319/memoria-del-rock---escenario-pedagogico--domingo-25-no
 viembre--18-00-h-\n
DTEND;TZID=Europe/Paris:20181125T190000
DTSTAMP:20260422T150627Z
DTSTART;TZID=Europe/Paris:20181125T180000
LOCATION:Teatro Avanti
SEQUENCE:0
SUMMARY:Memoria del Rock - Escenario Pedagogico -Domingo 25 Noviembre (18:0
 0 h)
UID:f759b85f-96c4-430e-9ee6-3ed5bd897b03
END:VEVENT
END:VCALENDAR
