BEGIN:VCALENDAR
PRODID:Nexudus
VERSION:2.0
BEGIN:VTIMEZONE
TZID:Europe/Paris
X-LIC-LOCATION:Europe/Paris
BEGIN:STANDARD
DTSTART:20241027T030000
RRULE:FREQ=YEARLY;BYDAY=-1SU;BYMONTH=10
TZNAME:CET
TZOFFSETFROM:+0200
TZOFFSETTO:+0100
END:STANDARD
BEGIN:DAYLIGHT
DTSTART:20250330T020000
RRULE:FREQ=YEARLY;BYDAY=-1SU;BYMONTH=3
TZNAME:CEST
TZOFFSETFROM:+0100
TZOFFSETTO:+0200
END:DAYLIGHT
END:VTIMEZONE
BEGIN:VEVENT
DESCRIPTION:Su personaje disparatado\, cómico y alocado\, junto a sus ampl
 ios conocimientos en el campo de la magia: desde grandes aparatos o magia 
 con animales hasta el mentalismo o la magia infantil\, le hacen único. Es
 ta perfecta mezcla de humor y magia le ha permitido estar en algunos de lo
 s mejores festivales internacionales\, teatros y salas de España\,  China
 \, Latinoamérica\, Portugal y Rumania.\nEvent link: https://teatroavanti.
 spaces.nexudus.com/en/events/view/714422296/un-sibarita-con-varita--hector
 -sansegundo--viernes-9-noviembre--21-00-h--\n
DTEND;TZID=Europe/Paris:20181109T220000
DTSTAMP:20260422T164726Z
DTSTART;TZID=Europe/Paris:20181109T210000
LOCATION:Teatro Avanti
SEQUENCE:0
SUMMARY:Un Sibarita con varita. Hector Sansegundo. Viernes 9 Noviembre (21:
 00 h.)
UID:6eab4849-60f6-4021-a619-67a82e9077ce
END:VEVENT
END:VCALENDAR
