BEGIN:VCALENDAR
PRODID:Nexudus
VERSION:2.0
BEGIN:VTIMEZONE
TZID:Europe/Paris
X-LIC-LOCATION:Europe/Paris
BEGIN:STANDARD
DTSTART:20241027T030000
RRULE:FREQ=YEARLY;BYDAY=-1SU;BYMONTH=10
TZNAME:CET
TZOFFSETFROM:+0200
TZOFFSETTO:+0100
END:STANDARD
BEGIN:DAYLIGHT
DTSTART:20250330T020000
RRULE:FREQ=YEARLY;BYDAY=-1SU;BYMONTH=3
TZNAME:CEST
TZOFFSETFROM:+0100
TZOFFSETTO:+0200
END:DAYLIGHT
END:VTIMEZONE
BEGIN:VEVENT
DESCRIPTION:El musical “La pirata Clotilde y sus pequemúsicos bucaneros
 ” trata de una isla\nllamada Sibemol\, donde vive la pirata Clotilde\, h
 ija del Pirata Barbanegra. Clotilde\ndesea ser como su padre y viajar alre
 dedor del mundo\, viviendo aventuras y\nbuscando tesoros.\n¿Lograran lleg
 ar a Musicalandia\, despistar al guardián y encontrar su tesoro para\nlle
 varlo hasta Sibemol?.\nEvent link: https://teatroavanti.spaces.nexudus.com
 /en/events/view/703655010/la-pirata-cloti-y-los-pequemusicos-bucaneros--c
 ía--pequemusicos--córdoba--domingo-28-de-octubre--12-00-y-18-00-h-\n
DTEND;TZID=Europe/Paris:20181028T200000
DTSTAMP:20260422T164652Z
DTSTART;TZID=Europe/Paris:20181028T120000
LOCATION:Teatro Avanti
SEQUENCE:0
SUMMARY:La Pirata Cloti y Los Pequemusicos Bucaneros. Cía: Pequemusicos (C
 órdoba) Domingo 28 de Octubre (12:00 y 18:00 h)
UID:366213d6-8c27-420b-801e-93262d975441
END:VEVENT
END:VCALENDAR
