BEGIN:VCALENDAR
PRODID:Nexudus
VERSION:2.0
BEGIN:VTIMEZONE
TZID:Europe/Paris
X-LIC-LOCATION:Europe/Paris
BEGIN:STANDARD
DTSTART:20241027T030000
RRULE:FREQ=YEARLY;BYDAY=-1SU;BYMONTH=10
TZNAME:CET
TZOFFSETFROM:+0200
TZOFFSETTO:+0100
END:STANDARD
BEGIN:DAYLIGHT
DTSTART:20250330T020000
RRULE:FREQ=YEARLY;BYDAY=-1SU;BYMONTH=3
TZNAME:CEST
TZOFFSETFROM:+0100
TZOFFSETTO:+0200
END:DAYLIGHT
END:VTIMEZONE
BEGIN:VEVENT
DESCRIPTION:Hace tiempo que ya no es como al principio. Es el teatro contad
 o desde el punto de vista sencillo\,\nsin parafernalias. La actriz y la hi
 storia como instrumento y eje principal de la\nobra. Una obra que trata lo
 s arquetipos anclados en las relaciones de pareja\,\nplanteada con un oscu
 ro sentido del humor\, que siendo ágil y divertida\, nos deja\nun gusto a
 gridulce por cómo nos sentimos reflejadas las personas de ambos\nsexos. U
 na obra que invita a despertar\nEvent link: https://teatroavanti.spaces.ne
 xudus.com/en/events/view/703655009/3-x-ques---cía-dragones-en-el-andamio-
 madrid-\n
DTEND;TZID=Europe/Paris:20181027T230000
DTSTAMP:20260422T164652Z
DTSTART;TZID=Europe/Paris:20181027T210000
LOCATION:Teatro Avanti
SEQUENCE:0
SUMMARY:3 X QUES - Cía:Dragones en el Andamio(Madrid)
UID:f01d8556-3eff-4a6e-bd09-d76a730141bd
END:VEVENT
END:VCALENDAR
