BEGIN:VCALENDAR
PRODID:Nexudus
VERSION:2.0
BEGIN:VTIMEZONE
TZID:Europe/Paris
X-LIC-LOCATION:Europe/Paris
BEGIN:STANDARD
DTSTART:20241027T030000
RRULE:FREQ=YEARLY;BYDAY=-1SU;BYMONTH=10
TZNAME:CET
TZOFFSETFROM:+0200
TZOFFSETTO:+0100
END:STANDARD
BEGIN:DAYLIGHT
DTSTART:20250330T020000
RRULE:FREQ=YEARLY;BYDAY=-1SU;BYMONTH=3
TZNAME:CEST
TZOFFSETFROM:+0100
TZOFFSETTO:+0200
END:DAYLIGHT
END:VTIMEZONE
BEGIN:VEVENT
DESCRIPTION:Una madre con 102 años\, una embolia\, una gripe y muy pocas g
 anas de morirse\;\nun hijo con una mujer posesiva y medio calva\, y una em
 presa que se hunde\;\notro hijo que la cuida\, la baña\, la peina... (A l
 a de la embolia)\; una testigo de\nJehová que los visita cada miércoles\
 ; muchas libretas y pocos ahorros\; una casa\nque hay que vender “¡pero
 \, ya!”\; y una noche interminable repleta de secretos\ninconfesables qu
 e acaban saliendo a la luz y... ¡ah\, sí! Timbres\, muchos timbres.\nEso
  es MAMAAA!!!!. Una comedia\, claro.\nEvent link: https://teatroavanti.spa
 ces.nexudus.com/en/events/view/703655008/mamaaaaaaa---cía--squizo-teatro-
 -cordoba--viernes-26-octubre--21-00-h-\n
DTEND;TZID=Europe/Paris:20181026T230000
DTSTAMP:20260422T164726Z
DTSTART;TZID=Europe/Paris:20181026T210000
LOCATION:Teatro Avanti
SEQUENCE:0
SUMMARY:MAMAAAAAAA - Cía. Squizo Teatro (Cordoba) Viernes 26 Octubre (21:0
 0 h)
UID:d03ce6de-908f-49ff-89bc-1abb5b91cb24
END:VEVENT
END:VCALENDAR
