BEGIN:VCALENDAR
PRODID:Nexudus
VERSION:2.0
BEGIN:VTIMEZONE
TZID:Europe/Paris
X-LIC-LOCATION:Europe/Paris
BEGIN:STANDARD
DTSTART:20241027T030000
RRULE:FREQ=YEARLY;BYDAY=-1SU;BYMONTH=10
TZNAME:CET
TZOFFSETFROM:+0200
TZOFFSETTO:+0100
END:STANDARD
BEGIN:DAYLIGHT
DTSTART:20250330T020000
RRULE:FREQ=YEARLY;BYDAY=-1SU;BYMONTH=3
TZNAME:CEST
TZOFFSETFROM:+0100
TZOFFSETTO:+0200
END:DAYLIGHT
END:VTIMEZONE
BEGIN:VEVENT
DESCRIPTION:Obra musical “De Simba a Kiara\, el tributo del Rey León”\
 , de la mano de la compañía madrileña Onbeat. Simba\, Kiara y todos los
  personajes de la\nafamada historia de Disney ‘El rey León’ dan forma
  a este musical pensado para todos los públicos en el que se hace un trib
 uto a la citada historia.\n\nPrecio en taquilla: anticipada 15 € día es
 pectáculo 18 €\nEvent link: https://teatroavanti.spaces.nexudus.com/en/
 events/view/665856511/el-tributo-del-rey-leon--de-samba-a-kiara---cía---o
 nbeat-madrid--sábado--29-septiembre--18-00-h--domingo-30-septiembre--12-0
 0-y-18-00-h-\n
DTEND;TZID=Europe/Paris:20180930T200000
DTSTAMP:20260422T164849Z
DTSTART;TZID=Europe/Paris:20180929T180000
LOCATION:Teatro Avanti
SEQUENCE:0
SUMMARY:EL TRIBUTO DEL REY LEON. DE SAMBA A KIARA - Cía.: Onbeat(Madrid) S
 ábado  29 Septiembre (18:00 h) Domingo 30 Septiembre (12:00 y 18:00 h) 
UID:7d8df484-5ba0-4049-a809-bddb7ad35f6e
END:VEVENT
END:VCALENDAR
