BEGIN:VCALENDAR
PRODID:Nexudus
VERSION:2.0
BEGIN:VTIMEZONE
TZID:Europe/Paris
X-LIC-LOCATION:Europe/Paris
BEGIN:STANDARD
DTSTART:20241027T030000
RRULE:FREQ=YEARLY;BYDAY=-1SU;BYMONTH=10
TZNAME:CET
TZOFFSETFROM:+0200
TZOFFSETTO:+0100
END:STANDARD
BEGIN:DAYLIGHT
DTSTART:20250330T020000
RRULE:FREQ=YEARLY;BYDAY=-1SU;BYMONTH=3
TZNAME:CEST
TZOFFSETFROM:+0100
TZOFFSETTO:+0200
END:DAYLIGHT
END:VTIMEZONE
BEGIN:VEVENT
DESCRIPTION:El Teatro De Las Maravillas\, presenta su espectáculo: “El P
 atito Feo” \,versión libre del cuento de Christian Andersen\, reúne en
  sí\, todos los condimentos de un buen espectáculo para niños: temátic
 a humanística\, sin violencia ni maniqueísmo\; divierte\, emociona y cau
 tiva a los espectadores\, con su profundo clima poético y a la vez\, humo
 rístico.\nEvent link: https://teatroavanti.spaces.nexudus.com/en/events/v
 iew/568860318/el-patito-feo---domingo-8-abril--12-00-horas--publico-famili
 ar\n
DTEND;TZID=Europe/Paris:20180408T130000
DTSTAMP:20260422T182517Z
DTSTART;TZID=Europe/Paris:20180408T120000
LOCATION:Teatro Avanti
SEQUENCE:0
SUMMARY:EL PATITO FEO - Domingo 8 Abril (12:00 horas) Publico Familiar
UID:030e31af-a052-4799-899f-bd20595daf59
END:VEVENT
END:VCALENDAR
