BEGIN:VCALENDAR
PRODID:Nexudus
VERSION:2.0
BEGIN:VTIMEZONE
TZID:Europe/Paris
X-LIC-LOCATION:Europe/Paris
BEGIN:STANDARD
DTSTART:20241027T030000
RRULE:FREQ=YEARLY;BYDAY=-1SU;BYMONTH=10
TZNAME:CET
TZOFFSETFROM:+0200
TZOFFSETTO:+0100
END:STANDARD
BEGIN:DAYLIGHT
DTSTART:20250330T020000
RRULE:FREQ=YEARLY;BYDAY=-1SU;BYMONTH=3
TZNAME:CEST
TZOFFSETFROM:+0100
TZOFFSETTO:+0200
END:DAYLIGHT
END:VTIMEZONE
BEGIN:VEVENT
DESCRIPTION:Teatro Arbolé se embarca en la tarea de producir un espectácu
 lo donde\nDon Quijote sea protagonista y empiece a ser conocido y manosead
 o por\nlos más pequeños. Utilizamos formas básicas\, un texto adaptado 
 y con\nesos elementos tratamos de acercar los personajes del libro\, hacie
 ndolos\ncercanos a los niños de 2 a 6 años. Con una manipulación a la v
 ista y\nmúsica en vivo\, que dejan fluir algunos de los episodios más co
 nocidos\npor los mayores.\n\n\nEvent link: https://teatroavanti.spaces.nex
 udus.com/en/events/view/568860307/mi-primer-quijote---sábado-7-abril--19-
 00-horas-\n
DTEND;TZID=Europe/Paris:20180407T200000
DTSTAMP:20260422T182344Z
DTSTART;TZID=Europe/Paris:20180407T190000
LOCATION:Teatro Avanti
SEQUENCE:0
SUMMARY:Mi primer Quijote - Sábado 7 Abril (19:00 horas) 
UID:7460aee3-539a-47ac-a53a-de429371b1e1
END:VEVENT
END:VCALENDAR
