BEGIN:VCALENDAR
PRODID:Nexudus
VERSION:2.0
BEGIN:VTIMEZONE
TZID:Europe/Paris
X-LIC-LOCATION:Europe/Paris
BEGIN:STANDARD
DTSTART:20241027T030000
RRULE:FREQ=YEARLY;BYDAY=-1SU;BYMONTH=10
TZNAME:CET
TZOFFSETFROM:+0200
TZOFFSETTO:+0100
END:STANDARD
BEGIN:DAYLIGHT
DTSTART:20250330T020000
RRULE:FREQ=YEARLY;BYDAY=-1SU;BYMONTH=3
TZNAME:CEST
TZOFFSETFROM:+0100
TZOFFSETTO:+0200
END:DAYLIGHT
END:VTIMEZONE
BEGIN:VEVENT
DESCRIPTION:Rita Listita es una bibliotecaria que está cansada de los fina
 les felices de los cuentos\, un día leyendo “Cenicienta” decide cambi
 ar su final arrancando una página del libro y reescribiendo el destino de
  su protagonista\; Al otro lado de la realidad el príncipe Paco\, del lej
 ano Reino de “Tilla” se dispone a probar el zapato a Cenicienta\, cuan
 do frente a sus ojos y por arte de magia este desaparece. El príncipe Pac
 o\, desesperado\, decide hacer un largo viaje al mundo real y pedir ayuda 
 al lugar donde más saben de libros\, la biblioteca\, y no a una cualquier
 a\, sino a la biblioteca de Rita Listita.\n\nEvent link: https://teatroava
 nti.spaces.nexudus.com/en/events/view/512618119/cenicienta--en-busca-del-z
 apato---domingo-11-febrero--12-00-h-y-18-00-h--público-familiar-\n
DTEND;TZID=Europe/Paris:20180211T200000
DTSTAMP:20260422T182420Z
DTSTART;TZID=Europe/Paris:20180211T120000
LOCATION:Teatro Avanti
SEQUENCE:0
SUMMARY:Cenicienta\, en busca del zapato - Domingo 11 Febrero (12:00 h y 18
 :00 h) Público Familiar.
UID:79be1bad-1b68-474a-bb2a-6d5c85f5af2e
END:VEVENT
END:VCALENDAR
