BEGIN:VCALENDAR
PRODID:Nexudus
VERSION:2.0
BEGIN:VTIMEZONE
TZID:Europe/Paris
X-LIC-LOCATION:Europe/Paris
BEGIN:STANDARD
DTSTART:20241027T030000
RRULE:FREQ=YEARLY;BYDAY=-1SU;BYMONTH=10
TZNAME:CET
TZOFFSETFROM:+0200
TZOFFSETTO:+0100
END:STANDARD
BEGIN:DAYLIGHT
DTSTART:20250330T020000
RRULE:FREQ=YEARLY;BYDAY=-1SU;BYMONTH=3
TZNAME:CEST
TZOFFSETFROM:+0100
TZOFFSETTO:+0200
END:DAYLIGHT
END:VTIMEZONE
BEGIN:VEVENT
DESCRIPTION:IMPRODUCTIVOS SHOW! es una experiencia cómica única e irrepet
 ible\, en la que el público decide de manera directa la mayoría de los e
 lementos de las historias que se representan. A diferencia del teatro clá
 sico\, nuestros actores no saben qué personajes interpretarán o dónde s
 e desarrollarán sus aventuras escénicas hasta que el público da sus ind
 icaciones.\nEvent link: https://teatroavanti.spaces.nexudus.com/en/events/
 view/512618117/improductivos-teatro-de-improvisacion--sevilla---viernes-19
 -y-sábado-20-enero--público-adulto\n
DTEND;TZID=Europe/Paris:20180120T220000
DTSTAMP:20260422T200137Z
DTSTART;TZID=Europe/Paris:20180119T210000
LOCATION:Teatro Avanti
SEQUENCE:0
SUMMARY:Improductivos Teatro de improvisacion (Sevilla) -VIERNES 19 y SÁBA
 DO 20 Enero- Público Adulto
UID:87f99670-54e5-431c-8c8c-a5a4d742fe4b
END:VEVENT
END:VCALENDAR
