BEGIN:VCALENDAR
PRODID:Nexudus
VERSION:2.0
BEGIN:VTIMEZONE
TZID:Europe/Paris
X-LIC-LOCATION:Europe/Paris
BEGIN:STANDARD
DTSTART:20241027T030000
RRULE:FREQ=YEARLY;BYDAY=-1SU;BYMONTH=10
TZNAME:CET
TZOFFSETFROM:+0200
TZOFFSETTO:+0100
END:STANDARD
BEGIN:DAYLIGHT
DTSTART:20250330T020000
RRULE:FREQ=YEARLY;BYDAY=-1SU;BYMONTH=3
TZNAME:CEST
TZOFFSETFROM:+0100
TZOFFSETTO:+0200
END:DAYLIGHT
END:VTIMEZONE
BEGIN:VEVENT
DESCRIPTION:TRES COSAS es una comedia romántica de “chica conoce a chico
 ” que disecciona\ncon humor los más serios temores que amenazan las rel
 aciones\nhumanas: el miedo al sufrimiento\, al compromiso\, al fracaso\, a
  la incertidumbre\nconstante de los sentimientos o a la inconstante certid
 umbre de los\nhijos… En definitiva: el miedo a VIVIR.\nEvent link: https
 ://teatroavanti.spaces.nexudus.com/en/events/view/471680217/tres-cosas--sa
 la-cero--sevilla---viernes-15-y-sábado-16-diciembre--público-adulto-\n
DTEND;TZID=Europe/Paris:20171216T230000
DTSTAMP:20260422T195820Z
DTSTART;TZID=Europe/Paris:20171215T210000
LOCATION:Teatro Avanti
SEQUENCE:0
SUMMARY:Tres cosas. Sala Cero (Sevilla). Viernes 15 y Sábado 16 Diciembre.
  Público Adulto.
UID:a07d262e-0b22-4f94-ac23-13e6a955184a
END:VEVENT
END:VCALENDAR
