BEGIN:VCALENDAR
PRODID:Nexudus
VERSION:2.0
BEGIN:VTIMEZONE
TZID:Europe/Paris
X-LIC-LOCATION:Europe/Paris
BEGIN:STANDARD
DTSTART:20241027T030000
RRULE:FREQ=YEARLY;BYDAY=-1SU;BYMONTH=10
TZNAME:CET
TZOFFSETFROM:+0200
TZOFFSETTO:+0100
END:STANDARD
BEGIN:DAYLIGHT
DTSTART:20250330T020000
RRULE:FREQ=YEARLY;BYDAY=-1SU;BYMONTH=3
TZNAME:CEST
TZOFFSETFROM:+0100
TZOFFSETTO:+0200
END:DAYLIGHT
END:VTIMEZONE
BEGIN:VEVENT
DESCRIPTION:Naife\, un ilusionista que tiene la condición de inmortal a co
 nsecuencia\nde haber nacido ya mago\, espera ansioso a que regrese su ayud
 ante\nreencarnada\, acto que lleva haciéndolo desde el comienzo\, vida tr
 as vida.\nPero en ésta ocasión\, después de esperar durante más de 87 
 años… algo\nha cambiado. Margaret\, la nueva ayudante no articula palab
 ra desde que\nnació\, ni recuerda nada de quien era...\nEvent link: https
 ://teatroavanti.spaces.nexudus.com/en/events/view/471680215/margaret--la-a
 yudante-del-mago--el-soplo-magico-huelva--domingo-3-diciembre--18-00-horas
 --público-familiar-\n
DTEND;TZID=Europe/Paris:20171203T190000
DTSTAMP:20260422T200111Z
DTSTART;TZID=Europe/Paris:20171203T180000
LOCATION:Teatro Avanti
SEQUENCE:0
SUMMARY:Margaret\, la ayudante del mago. El soplo Magico Huelva. Domingo 3 
 Diciembre (18:00 horas) Público Familiar.
UID:4d285f1b-d9af-4a8b-b9d5-7eb2083d46bd
END:VEVENT
END:VCALENDAR
