BEGIN:VCALENDAR
PRODID:Nexudus
VERSION:2.0
BEGIN:VTIMEZONE
TZID:Europe/Paris
X-LIC-LOCATION:Europe/Paris
BEGIN:STANDARD
DTSTART:20241027T030000
RRULE:FREQ=YEARLY;BYDAY=-1SU;BYMONTH=10
TZNAME:CET
TZOFFSETFROM:+0200
TZOFFSETTO:+0100
END:STANDARD
BEGIN:DAYLIGHT
DTSTART:20250330T020000
RRULE:FREQ=YEARLY;BYDAY=-1SU;BYMONTH=3
TZNAME:CEST
TZOFFSETFROM:+0100
TZOFFSETTO:+0200
END:DAYLIGHT
END:VTIMEZONE
BEGIN:VEVENT
DESCRIPTION:XII FESTIVAL DE CIRCO DE CÓRDOBA\nMambo se cría desde muy peq
 ueño entre frutas tropicales y ritmo caribeños\,\nexceptuando el reggaet
 ón. Desarrolla una atracción especial por las pelotas\nya sean pequeñas
 \, medianas o grandes y una necesidad imperante por salir\na la calle a ju
 gar con el resto del mundo... Una vez su madre le preguntó qué\nquería 
 serde mayor\, y él le respondió: ¡YO QUIERO SER PELOTUDO! Así nace ¡Y
 o\nQuiero Ser Pelotudo!\nEvent link: https://teatroavanti.spaces.nexudus.c
 om/en/events/view/471680213/yo-quiero-ser-pelotudo--circo-mambo-granada--d
 omingo-26-noviembre---12-00-horas--todos-los-públicos-\n
DTEND;TZID=Europe/Paris:20171126T130000
DTSTAMP:20260422T200020Z
DTSTART;TZID=Europe/Paris:20171126T120000
LOCATION:Teatro Avanti
SEQUENCE:0
SUMMARY:Yo quiero ser pelotudo. Circo Mambo Granada. Domingo 26 Noviembre. 
 (12:00 horas) Todos los públicos.
UID:c2cafe41-3f45-4c39-9320-ffe2bbc00061
END:VEVENT
END:VCALENDAR
