BEGIN:VCALENDAR
PRODID:Nexudus
VERSION:2.0
BEGIN:VTIMEZONE
TZID:Europe/Paris
X-LIC-LOCATION:Europe/Paris
BEGIN:STANDARD
DTSTART:20241027T030000
RRULE:FREQ=YEARLY;BYDAY=-1SU;BYMONTH=10
TZNAME:CET
TZOFFSETFROM:+0200
TZOFFSETTO:+0100
END:STANDARD
BEGIN:DAYLIGHT
DTSTART:20250330T020000
RRULE:FREQ=YEARLY;BYDAY=-1SU;BYMONTH=3
TZNAME:CEST
TZOFFSETFROM:+0100
TZOFFSETTO:+0200
END:DAYLIGHT
END:VTIMEZONE
BEGIN:VEVENT
DESCRIPTION:El IRRINTZI es grito estridente\, sonoro y prolongado\, de un s
 olo aliento. Se\nlanza como explosión de alegría en fiestas populares y 
 otros eventos. Es un\ngrito espontáneo y liberador que genera empatía en
  el oyente y le emociona.\nAbstraemos su vibración y la exportamos al son
 ido y al cuerpo. Éste vibra\ncomo el de aquella mujer octogenaria que pie
 rde cada vez más facultades en\nsu cuerpo pero no tantas en su voz. Y ¿c
 uántos gritos podría haber lanzado\nesa mujer para liberarse y no lo hiz
 o? Pero hoy sí\, hoy lo soltará todo.\nEvent link: https://teatroavanti.
 spaces.nexudus.com/en/events/view/471393980/irrintzi--viernes-17-y-sábado
 -18--21-00-horas--público-adulto\n
DTEND;TZID=Europe/Paris:20171118T220000
DTSTAMP:20260422T213502Z
DTSTART;TZID=Europe/Paris:20171117T210000
LOCATION:Teatro Avanti
SEQUENCE:0
SUMMARY:Irrintzi. VIERNES 17 Y SÁBADO 18 (21:00 horas) Público adulto
UID:8548c1ad-da3e-47c0-862c-68f55e7d8290
END:VEVENT
END:VCALENDAR
