BEGIN:VCALENDAR
PRODID:Nexudus
VERSION:2.0
BEGIN:VTIMEZONE
TZID:Europe/Paris
X-LIC-LOCATION:Europe/Paris
BEGIN:STANDARD
DTSTART:20241027T030000
RRULE:FREQ=YEARLY;BYDAY=-1SU;BYMONTH=10
TZNAME:CET
TZOFFSETFROM:+0200
TZOFFSETTO:+0100
END:STANDARD
BEGIN:DAYLIGHT
DTSTART:20250330T020000
RRULE:FREQ=YEARLY;BYDAY=-1SU;BYMONTH=3
TZNAME:CEST
TZOFFSETFROM:+0100
TZOFFSETTO:+0200
END:DAYLIGHT
END:VTIMEZONE
BEGIN:VEVENT
DESCRIPTION:Los mejores del panorama nacional e internacional en el mundo d
 e la magia se dan cita \nen esta fantastica e ilusionante gala.\nG- Alexan
 der (Finalista del programa Pura magia de TVE)\nMiguel Gavilán (Ha trabaj
 ado en los escenarios y televisiones mas importantes del toda \nla geograf
 ía mundial)\nPablo Cánovas (joven cordobes que sigue cosechando premios 
 a nivel internacional)\nMago Cobra (además de premiado en innumerables co
 ngresos mágicos es original y \nespectacular)\nPresenta Elia Sanchez (act
 riz cordobesa que domina como nadie la magia de las tablas)\nEvent link: h
 ttps://teatroavanti.spaces.nexudus.com/en/events/view/469506039/gran-gala-
 mágica--sábado-11-nov--21-00-horas---todos-los-públicos\n
DTEND;TZID=Europe/Paris:20171111T230000
DTSTAMP:20260422T213544Z
DTSTART;TZID=Europe/Paris:20171111T210000
LOCATION:Teatro Avanti
SEQUENCE:0
SUMMARY:GRAN GALA MÁGICA. SÁBADO 11 NOV (21:00 Horas ) Todos los Público
 s
UID:aa8a5cf0-b515-4969-b1f5-0efaf6719fd1
END:VEVENT
END:VCALENDAR
