BEGIN:VCALENDAR
PRODID:Nexudus
VERSION:2.0
BEGIN:VTIMEZONE
TZID:Europe/Paris
X-LIC-LOCATION:Europe/Paris
BEGIN:STANDARD
DTSTART:20241027T030000
RRULE:FREQ=YEARLY;BYDAY=-1SU;BYMONTH=10
TZNAME:CET
TZOFFSETFROM:+0200
TZOFFSETTO:+0100
END:STANDARD
BEGIN:DAYLIGHT
DTSTART:20250330T020000
RRULE:FREQ=YEARLY;BYDAY=-1SU;BYMONTH=3
TZNAME:CEST
TZOFFSETFROM:+0100
TZOFFSETTO:+0200
END:DAYLIGHT
END:VTIMEZONE
BEGIN:VEVENT
DESCRIPTION:Miguel Gavilán empieza en el arte de la magia a la temprana ed
 ad de 12 años. En noviembre de 1991 recibe su primer fascículo-curso de 
 magia de la mano de Juan Tamariz. A lo largo de los años convierte su afi
 ción en una profesión en la que se dedica plenamente al ilusionismo.\nHa
  pisado algunos de los mejores escenarios tanto en ámbito nacional como i
 nternacional. En 2007 consigue el Primer Premio de Magia de Escena de Espa
 ña\, convirtiéndose en el primer mago mallorquín que consigue dicho rec
 onocimiento.\nEn 2011 participa en el programa de la televisión francesa 
 llamado “Le plus grand cabaret du monde”\, donde participan los mejore
 s artistas internacionales del mundo. Aquí podéis ver su actuación.\nEl
  mismo año consigue el “Mandrake d´Or” (el Óscar de los magos). Es 
 un reconocimiento de repercusión mundial en el que también han sido gala
 rdonados ilusionistas de la talla de David Copperfield o Juan Tamariz.”\
 n\nEvent link: https://teatroavanti.spaces.nexudus.com/en/events/view/4695
 06038/the-king--miguel-gavilán--viernes-10-nov--21-00-horas--todos-los-p
 úblicos-\n
DTEND;TZID=Europe/Paris:20171110T230000
DTSTAMP:20260422T213406Z
DTSTART;TZID=Europe/Paris:20171110T210000
LOCATION:Teatro Avanti
SEQUENCE:0
SUMMARY:THE KING. MIGUEL GAVILÁN. VIERNES 10 NOV (21:00 horas) Todos los p
 úblicos.
UID:987d8b32-fedc-4a46-a129-44c05e88d267
END:VEVENT
END:VCALENDAR
