BEGIN:VCALENDAR
PRODID:Nexudus
VERSION:2.0
BEGIN:VTIMEZONE
TZID:Europe/Paris
X-LIC-LOCATION:Europe/Paris
BEGIN:STANDARD
DTSTART:20241027T030000
RRULE:FREQ=YEARLY;BYDAY=-1SU;BYMONTH=10
TZNAME:CET
TZOFFSETFROM:+0200
TZOFFSETTO:+0100
END:STANDARD
BEGIN:DAYLIGHT
DTSTART:20250330T020000
RRULE:FREQ=YEARLY;BYDAY=-1SU;BYMONTH=3
TZNAME:CEST
TZOFFSETFROM:+0100
TZOFFSETTO:+0200
END:DAYLIGHT
END:VTIMEZONE
BEGIN:VEVENT
DESCRIPTION:Un gato corriente es la única herencia que recibe el hijo pequ
 eño del molinero.\nEste animal felino\, astuto y pícaro\, teme por su vi
 da y pondrá toda su\ninteligencia y energía en buscar el mayor beneficio
  para su amo\, el servirle\ncon humildad y que se sienta orgulloso de él.
 \nEvent link: https://teatroavanti.spaces.nexudus.com/en/events/view/44857
 2252/el-gato-con-botas---domingo-29-octubre-12-00-y-18-00-h---público-fam
 iliar--ultimas-localidades-venta-exclusiva-taquilla-\n
DTEND;TZID=Europe/Paris:20171029T200000
DTSTAMP:20260422T213351Z
DTSTART;TZID=Europe/Paris:20171029T120000
LOCATION:Teatro Avanti
SEQUENCE:0
SUMMARY:El gato con botas. (Domingo 29 Octubre 12:00 y 18:00 h.) Público F
 amiliar. ULTIMAS LOCALIDADES VENTA EXCLUSIVA TAQUILLA.
UID:9fa078d7-cca9-4bc0-85f5-ae7343a0b78d
END:VEVENT
END:VCALENDAR
