BEGIN:VCALENDAR
PRODID:Nexudus
VERSION:2.0
BEGIN:VTIMEZONE
TZID:Europe/Paris
X-LIC-LOCATION:Europe/Paris
BEGIN:STANDARD
DTSTART:20241027T030000
RRULE:FREQ=YEARLY;BYDAY=-1SU;BYMONTH=10
TZNAME:CET
TZOFFSETFROM:+0200
TZOFFSETTO:+0100
END:STANDARD
BEGIN:DAYLIGHT
DTSTART:20250330T020000
RRULE:FREQ=YEARLY;BYDAY=-1SU;BYMONTH=3
TZNAME:CEST
TZOFFSETFROM:+0100
TZOFFSETTO:+0200
END:DAYLIGHT
END:VTIMEZONE
BEGIN:VEVENT
DESCRIPTION:Gipsy\, es un espectáculo que fusiona la fuerza y pasion del f
 lamenco\, con\nla elegancia y exotismo de la danza oriental. Un recorrido 
 por los diferentes\nestilos que dan su nombre a la danzas Gipsys.\nEvent l
 ink: https://teatroavanti.spaces.nexudus.com/en/events/view/448572251/gips
 y---sábado-28-octubre-21-00-h---todos-los-públicos--ultimas-localidades-
 de-venta-exclusiva-en-taquilla\n
DTEND;TZID=Europe/Paris:20171028T230000
DTSTAMP:20260422T213502Z
DTSTART;TZID=Europe/Paris:20171028T210000
LOCATION:Teatro Avanti
SEQUENCE:0
SUMMARY:Gipsy. (Sábado 28 Octubre 21:00 h.) Todos los públicos. ULTIMAS L
 OCALIDADES DE VENTA EXCLUSIVA EN TAQUILLA
UID:3fe0ad8b-87dd-4ad4-a059-9b7d1a60e5ed
END:VEVENT
END:VCALENDAR
