BEGIN:VCALENDAR
PRODID:Nexudus
VERSION:2.0
BEGIN:VTIMEZONE
TZID:Europe/Paris
X-LIC-LOCATION:Europe/Paris
BEGIN:STANDARD
DTSTART:20241027T030000
RRULE:FREQ=YEARLY;BYDAY=-1SU;BYMONTH=10
TZNAME:CET
TZOFFSETFROM:+0200
TZOFFSETTO:+0100
END:STANDARD
BEGIN:DAYLIGHT
DTSTART:20250330T020000
RRULE:FREQ=YEARLY;BYDAY=-1SU;BYMONTH=3
TZNAME:CEST
TZOFFSETFROM:+0100
TZOFFSETTO:+0200
END:DAYLIGHT
END:VTIMEZONE
BEGIN:VEVENT
DESCRIPTION:En lo cotidiano\, la rutina implica una práctica que\, con el 
 tiempo se desarrolla\nde manera casi automática\, sin necesidad de implic
 ar el razonamiento.\nEl contexto\, la búsqueda de éxito profesional\, pe
 rsonal y/o supervivencia\ncondicionan nuestra rutina.Renunciamos a nuestra
 s aspiraciones por temor\nal fracaso. COMMON es nuestra propuesta escénic
 a: diaria\, predecible\, segura\ny automática.\nUna Pieza cuya naturaleza
  debe ser ADAPTABLE\, como nosotros mismos.\nEvent link: https://teatroava
 nti.spaces.nexudus.com/en/events/view/448572250/common---viernes-27-octubr
 e-21-00-h---público-adulto-\n
DTEND;TZID=Europe/Paris:20171027T220000
DTSTAMP:20260422T213351Z
DTSTART;TZID=Europe/Paris:20171027T210000
LOCATION:Teatro Avanti
SEQUENCE:0
SUMMARY:Common. (Viernes 27 Octubre 21:00 h.) Público Adulto. 
UID:d98413d8-53d7-4c9a-8bec-feead0d2f473
END:VEVENT
END:VCALENDAR
