BEGIN:VCALENDAR
PRODID:Nexudus
VERSION:2.0
BEGIN:VTIMEZONE
TZID:Europe/Paris
X-LIC-LOCATION:Europe/Paris
BEGIN:STANDARD
DTSTART:20241027T030000
RRULE:FREQ=YEARLY;BYDAY=-1SU;BYMONTH=10
TZNAME:CET
TZOFFSETFROM:+0200
TZOFFSETTO:+0100
END:STANDARD
BEGIN:DAYLIGHT
DTSTART:20250330T020000
RRULE:FREQ=YEARLY;BYDAY=-1SU;BYMONTH=3
TZNAME:CEST
TZOFFSETFROM:+0100
TZOFFSETTO:+0200
END:DAYLIGHT
END:VTIMEZONE
BEGIN:VEVENT
DESCRIPTION:Manolo y Javier se cambian de piso. El excesivo amaneramiento d
 e Manolo\nha conseguido que ya todo el vecindario piense que tanto él com
 o Javier\nson pareja de hecho. Se mudan a un apartamento nuevo a peticion 
 de Javier\ny con única condición de que el nuevo hogar tenga una decorac
 ión muy varonil\,\nmuy varonil\, muy varonil. Ya con los lunares del aban
 ico y el delantal\nde manolo es suficiente para que la gente siga pensando
  mal.\n¿Habrá encontrado Manolo ese apartamento tan “macho”?\nEvent 
 link: https://teatroavanti.spaces.nexudus.com/en/events/view/448572246/que
 -mala-suerte-tengo-pa-tó---viernes-20-octubre-21-00-h---sábado-21-octubr
 e--19-00-h--y-22-00-h---público-adulto--ultimas-localidades-venta-exclusi
 va-en-taquilla\n
DTEND;TZID=Europe/Paris:20171021T230000
DTSTAMP:20260422T213523Z
DTSTART;TZID=Europe/Paris:20171020T210000
LOCATION:Teatro Avanti
SEQUENCE:0
SUMMARY:Que mala suerte tengo pa tó. (Viernes 20 Octubre 21:00 h.) Sábado
  21 Octubre (19:00 h. y 22:00 h.) Público Adulto. ULTIMAS LOCALIDADES VEN
 TA EXCLUSIVA EN TAQUILLA
UID:a4a65f31-a5d0-44c0-ae23-98c531f54c2f
END:VEVENT
END:VCALENDAR
