BEGIN:VCALENDAR
PRODID:Nexudus
VERSION:2.0
BEGIN:VTIMEZONE
TZID:Europe/Paris
X-LIC-LOCATION:Europe/Paris
BEGIN:STANDARD
DTSTART:20241027T030000
RRULE:FREQ=YEARLY;BYDAY=-1SU;BYMONTH=10
TZNAME:CET
TZOFFSETFROM:+0200
TZOFFSETTO:+0100
END:STANDARD
BEGIN:DAYLIGHT
DTSTART:20250330T020000
RRULE:FREQ=YEARLY;BYDAY=-1SU;BYMONTH=3
TZNAME:CEST
TZOFFSETFROM:+0100
TZOFFSETTO:+0200
END:DAYLIGHT
END:VTIMEZONE
BEGIN:VEVENT
DESCRIPTION:Basada en valores educativos. En su viaje el pequeño príncipe
  descubre\nvalores que le hacen descubrir lo que es realmente importe\, lo
  esencial.\nEl no consumismo\, el cuidado del medio ambiente\, la fauna y 
 la flora\, la\namistad\, las cosas pequeñas de la vida\, etc. Con cada un
 o de sus personajes\,\nEl Rey\, El Zorro\, El Cazador de Estrellas\, El Se
 ñor del Farol\, La bella Eco\,\ny La Bruja Serpentina enseñarán a los n
 iños a crecer dentro de un mundo\nmás sencillo y mejor.\nEvent link: htt
 ps://teatroavanti.spaces.nexudus.com/en/events/view/448572245/erase-una-ve
 z-el-viaje-del-principito---domingo-8-octubre-12-00-y-18-00-h---público-f
 amiliar--ultimas-localidades-de-venta-exclusiva-en-taquilla\n
DTEND;TZID=Europe/Paris:20171008T190000
DTSTAMP:20260422T213544Z
DTSTART;TZID=Europe/Paris:20171008T120000
LOCATION:Teatro Avanti
SEQUENCE:0
SUMMARY:Erase una vez el viaje del principito. (Domingo 8 Octubre 12:00 y 1
 8:00 h.) Público Familiar. ULTIMAS LOCALIDADES DE VENTA EXCLUSIVA EN TAQU
 ILLA
UID:6c7b7b69-da77-4bd8-a7bd-8b7afc884f26
END:VEVENT
END:VCALENDAR
