BEGIN:VCALENDAR
PRODID:Nexudus
VERSION:2.0
BEGIN:VTIMEZONE
TZID:Europe/Paris
X-LIC-LOCATION:Europe/Paris
BEGIN:STANDARD
DTSTART:20241027T030000
RRULE:FREQ=YEARLY;BYDAY=-1SU;BYMONTH=10
TZNAME:CET
TZOFFSETFROM:+0200
TZOFFSETTO:+0100
END:STANDARD
BEGIN:DAYLIGHT
DTSTART:20250330T020000
RRULE:FREQ=YEARLY;BYDAY=-1SU;BYMONTH=3
TZNAME:CEST
TZOFFSETFROM:+0100
TZOFFSETTO:+0200
END:DAYLIGHT
END:VTIMEZONE
BEGIN:VEVENT
DESCRIPTION:Es una comedia de enredos en la que una pareja feliz\, debe pad
 ecer las\nmalvadas estrategias de sus suegras\, que harán lo imposible pa
 ra separarlos\,\nya que consideran que la diferencia de edad entre ambos\,
  es el motivo de un\nseguro fracaso matrimonial y que la pareja no tienga 
 ningún futuro. Es así que\nestas suegras se convierten en verdaderas bru
 jas y una pesadilla para Daniel y\nBárbara\, pero por suerte el amor siem
 pre triunfa.\nEvent link: https://teatroavanti.spaces.nexudus.com/en/event
 s/view/448572239/suegras-bárbaras---viernes-29-y-sábado-30-septiembre--p
 úblico-adulto-\n
DTEND;TZID=Europe/Paris:20170930T230000
DTSTAMP:20260422T213406Z
DTSTART;TZID=Europe/Paris:20170929T210000
LOCATION:Teatro Avanti
SEQUENCE:0
SUMMARY:Suegras bárbaras. (Viernes 29 y Sábado 30 Septiembre) Público Ad
 ulto.
UID:0036b537-3969-4255-a631-4a1817ef9d74
END:VEVENT
END:VCALENDAR
