BEGIN:VCALENDAR
PRODID:Nexudus
VERSION:2.0
BEGIN:VTIMEZONE
TZID:Europe/Paris
X-LIC-LOCATION:Europe/Paris
BEGIN:STANDARD
DTSTART:20241027T030000
RRULE:FREQ=YEARLY;BYDAY=-1SU;BYMONTH=10
TZNAME:CET
TZOFFSETFROM:+0200
TZOFFSETTO:+0100
END:STANDARD
BEGIN:DAYLIGHT
DTSTART:20250330T020000
RRULE:FREQ=YEARLY;BYDAY=-1SU;BYMONTH=3
TZNAME:CEST
TZOFFSETFROM:+0100
TZOFFSETTO:+0200
END:DAYLIGHT
END:VTIMEZONE
BEGIN:VEVENT
DESCRIPTION:“Cyrano”\, de Edmondo Rostand. Compañía “Junglaría Tea
 tro”.\n\nVIERNES 28 JULIO Y SÁBADO 29 JULIO\n\nUn clásico de la litera
 tura dramática desde su estreno en 1897. \n\nVenta de entradas en taquill
 a del Palacio de Viana o www.palaciodeviana.com\nPrecio 8 € general\, 6 
 € clientes grupo Kutxabank.\n(Las entradas online estarán disponibles h
 asta el día antes del espectáculo a las 17h\, después se podrán compra
 r directamente en la taquilla de Palacio.)\nEvent link: https://teatroavan
 ti.spaces.nexudus.com/en/events/view/416472073/noches-de-teatro-en-viana--
 -cyrano---venta-de-entradas-en-taquilla-del-palacio-de-viana-o-www-palacio
 deviana-com\n
DTEND;TZID=Europe/Paris:20170727T100000
DTSTAMP:20260422T225318Z
DTSTART;TZID=Europe/Paris:20170728T220000
LOCATION:Teatro Avanti
SEQUENCE:0
SUMMARY:NOCHES DE TEATRO EN VIANA - Cyrano - Venta de entradas en taquilla 
 del Palacio de Viana o www.palaciodeviana.com
UID:8b803f41-da19-41b2-98c5-bf97dc2504ad
END:VEVENT
END:VCALENDAR
