BEGIN:VCALENDAR
PRODID:Nexudus
VERSION:2.0
BEGIN:VTIMEZONE
TZID:Europe/Paris
X-LIC-LOCATION:Europe/Paris
BEGIN:STANDARD
DTSTART:20241027T030000
RRULE:FREQ=YEARLY;BYDAY=-1SU;BYMONTH=10
TZNAME:CET
TZOFFSETFROM:+0200
TZOFFSETTO:+0100
END:STANDARD
BEGIN:DAYLIGHT
DTSTART:20250330T020000
RRULE:FREQ=YEARLY;BYDAY=-1SU;BYMONTH=3
TZNAME:CEST
TZOFFSETFROM:+0100
TZOFFSETTO:+0200
END:DAYLIGHT
END:VTIMEZONE
BEGIN:VEVENT
DESCRIPTION:“No hay burlas con Calderón”. Textos de Calderón de la Ba
 rca. Compañía “Induo Teatro”.\n\nVIERNES 21 JULIO Y SABADO 22 JULIO\
 n\nUna comedia delirante y disparatada sobre el oficio de cómico en el Si
 glo de Oro español.\n\nVenta de entradas en taquilla del Palacio de Viana
  o www.palaciodeviana.com\nPrecio 8 € general\, 6 € clientes grupo Kut
 xabank.\n(Las entradas online estarán disponibles hasta el día antes del
  espectáculo a las 17h\, después se podrán comprar directamente en la t
 aquilla de Palacio.)\nEvent link: https://teatroavanti.spaces.nexudus.com/
 en/events/view/416472072/noches-de-teatro-en-viana---no-hay-burlas-con-cal
 deron---venta-de-entradas-en-taquilla-del-palacio-de-viana-o-www-palaciode
 viana-com\n
DTEND;TZID=Europe/Paris:20170722T220000
DTSTAMP:20260422T225329Z
DTSTART;TZID=Europe/Paris:20170721T220000
LOCATION:Teatro Avanti
SEQUENCE:0
SUMMARY:NOCHES DE TEATRO EN VIANA - No hay burlas con Calderon - Venta de e
 ntradas en taquilla del Palacio de Viana o www.palaciodeviana.com
UID:466fe03b-d1e9-420d-b12f-cd05e1ac517a
END:VEVENT
END:VCALENDAR
