BEGIN:VCALENDAR
PRODID:Nexudus
VERSION:2.0
BEGIN:VTIMEZONE
TZID:Europe/Paris
X-LIC-LOCATION:Europe/Paris
BEGIN:STANDARD
DTSTART:20241027T030000
RRULE:FREQ=YEARLY;BYDAY=-1SU;BYMONTH=10
TZNAME:CET
TZOFFSETFROM:+0200
TZOFFSETTO:+0100
END:STANDARD
BEGIN:DAYLIGHT
DTSTART:20250330T020000
RRULE:FREQ=YEARLY;BYDAY=-1SU;BYMONTH=3
TZNAME:CEST
TZOFFSETFROM:+0100
TZOFFSETTO:+0200
END:DAYLIGHT
END:VTIMEZONE
BEGIN:VEVENT
DESCRIPTION:“El Perro del Hortelano”\, de Lope de Vega (Versión de Emi
 lio Hernández). Compañía “La Vidriera Teatro”.\n\nVIERNES 14 JULIO 
 Y SÁBADO 15 JULIO\n\nUna adaptación modernista de la comedia de Lope de 
 Vega situada en el Nueva York de los años 30. \n\nVenta de entradas en ta
 quilla del Palacio de Viana o www.palaciodeviana.com\nPrecio 8 € general
 \, 6 € clientes grupo Kutxabank.\n(Las entradas online estarán disponib
 les hasta el día antes del espectáculo a las 17h\, después se podrán c
 omprar directamente en la taquilla de Palacio.)\nEvent link: https://teatr
 oavanti.spaces.nexudus.com/en/events/view/416472071/noches-de-teatro-en-vi
 ana---el-perro-del-hortelano---venta-de-entradas-en-taquilla-del-palacio-d
 e-viana-o-www-palaciodeviana-com\n
DTEND;TZID=Europe/Paris:20170715T220000
DTSTAMP:20260422T225303Z
DTSTART;TZID=Europe/Paris:20170714T220000
LOCATION:Teatro Avanti
SEQUENCE:0
SUMMARY:NOCHES DE TEATRO EN VIANA - El Perro del Hortelano - Venta de entra
 das en taquilla del Palacio de Viana o www.palaciodeviana.com
UID:ca1cffb7-54be-49b5-bebb-0396bed23716
END:VEVENT
END:VCALENDAR
