BEGIN:VCALENDAR
PRODID:Nexudus
VERSION:2.0
BEGIN:VTIMEZONE
TZID:Europe/Paris
X-LIC-LOCATION:Europe/Paris
BEGIN:STANDARD
DTSTART:20241027T030000
RRULE:FREQ=YEARLY;BYDAY=-1SU;BYMONTH=10
TZNAME:CET
TZOFFSETFROM:+0200
TZOFFSETTO:+0100
END:STANDARD
BEGIN:DAYLIGHT
DTSTART:20250330T020000
RRULE:FREQ=YEARLY;BYDAY=-1SU;BYMONTH=3
TZNAME:CEST
TZOFFSETFROM:+0100
TZOFFSETTO:+0200
END:DAYLIGHT
END:VTIMEZONE
BEGIN:VEVENT
DESCRIPTION:“Divorciadas\, evangélicas y vegetarianas”\, de Gustavo Ot
 t. Compañía “La Vidriera Teatro”.\n\nVIERNES 7 JULIO Y SABADO 8 JULI
 O\n\nUna comedia ácida e ingeniosa protagonizada por tres mujeres\, situa
 da en nuestra sociedad actual. Las entradas online estarán disponibles ha
 sta el día antes del espectáculo a las 17h\, después se podrán comprar
  directamente en la taquilla de Palacio.\n\nVenta de entradas en taquilla 
 del Palacio de Viana o www.palaciodeviana.com\nPrecio 8 € general\, 6 
 € clientes grupo Kutxabank.\nEvent link: https://teatroavanti.spaces.nex
 udus.com/en/events/view/416472070/noches-de-teatro-en-viana---divorciadas-
 -evangélicas-y-vegetarianas--venta-de-entradas-en-taquilla-del-palacio-de
 -viana-o-www-palaciodeviana-com\n
DTEND;TZID=Europe/Paris:20170708T220000
DTSTAMP:20260422T225329Z
DTSTART;TZID=Europe/Paris:20170707T220000
LOCATION:Teatro Avanti
SEQUENCE:0
SUMMARY:NOCHES DE TEATRO EN VIANA - Divorciadas\, Evangélicas y Vegetarian
 as. Venta de entradas en taquilla del Palacio de Viana o www.palaciodevian
 a.com
UID:4d2fb9f1-c853-45ae-b839-e2a574bb63e2
END:VEVENT
END:VCALENDAR
