BEGIN:VCALENDAR
PRODID:Nexudus
VERSION:2.0
BEGIN:VTIMEZONE
TZID:Europe/Paris
X-LIC-LOCATION:Europe/Paris
BEGIN:STANDARD
DTSTART:20241027T030000
RRULE:FREQ=YEARLY;BYDAY=-1SU;BYMONTH=10
TZNAME:CET
TZOFFSETFROM:+0200
TZOFFSETTO:+0100
END:STANDARD
BEGIN:DAYLIGHT
DTSTART:20250330T020000
RRULE:FREQ=YEARLY;BYDAY=-1SU;BYMONTH=3
TZNAME:CEST
TZOFFSETFROM:+0100
TZOFFSETTO:+0200
END:DAYLIGHT
END:VTIMEZONE
BEGIN:VEVENT
DESCRIPTION:Disfruta del los trabajos que los alumnos/as de nuestras Escuel
 as de Teatro\, Música\, Danza y Magia os ha preparado.\nDel 20 de Mayo al
  25 de Junio en TEATRO AVANTI. (Entrada Libre hasta completar aforo)\nEven
 t link: https://teatroavanti.spaces.nexudus.com/en/events/view/388030656/m
 uestra-de-la-escuela-de-teatro-avanti---grupo-lope-de-vega-adolescentes-ju
 eves---1-junio---jueves-19-30-horas----entrada-libre-hasta-completar-aforo
 -\n
DTEND;TZID=Europe/Paris:20170601T193000
DTSTAMP:20260423T001706Z
DTSTART;TZID=Europe/Paris:20170601T193000
LOCATION:Teatro Avanti
SEQUENCE:0
SUMMARY:MUESTRA DE LA ESCUELA DE TEATRO AVANTI - GRUPO LOPE DE VEGA ADOLESC
 ENTES JUEVES - 1 JUNIO - JUEVES 19.30 HORAS - (Entrada Libre hasta complet
 ar aforo)
UID:f761ed73-c3bf-46ef-a631-d94c1a3d3e9e
END:VEVENT
END:VCALENDAR
