BEGIN:VCALENDAR
PRODID:Nexudus
VERSION:2.0
BEGIN:VTIMEZONE
TZID:Europe/Paris
X-LIC-LOCATION:Europe/Paris
BEGIN:STANDARD
DTSTART:20241027T030000
RRULE:FREQ=YEARLY;BYDAY=-1SU;BYMONTH=10
TZNAME:CET
TZOFFSETFROM:+0200
TZOFFSETTO:+0100
END:STANDARD
BEGIN:DAYLIGHT
DTSTART:20250330T020000
RRULE:FREQ=YEARLY;BYDAY=-1SU;BYMONTH=3
TZNAME:CEST
TZOFFSETFROM:+0100
TZOFFSETTO:+0200
END:DAYLIGHT
END:VTIMEZONE
BEGIN:VEVENT
DESCRIPTION:Disfruta del los trabajos que los alumnos/as de nuestras Escuel
 as de Teatro\, Música\, Danza y Magia os ha preparado.\nDel 20 de Mayo al
  25 de Junio en TEATRO AVANTI. (Entrada Libre hasta completar aforo)\nEven
 t link: https://teatroavanti.spaces.nexudus.com/en/events/view/388030655/c
 ía--avanti---adultos-miércoles---25-junio---domingo-20-00-horas--entrada
 -libre-hasta-completar-aforo-\n
DTEND;TZID=Europe/Paris:20170625T200000
DTSTAMP:20260422T225145Z
DTSTART;TZID=Europe/Paris:20170625T200000
LOCATION:Teatro Avanti
SEQUENCE:0
SUMMARY:CÍA. AVANTI - ADULTOS MIÉRCOLES - 25 JUNIO - DOMINGO 20.00 HORAS 
 (Entrada Libre hasta completar aforo)
UID:ced4d6d2-286b-4f43-aae9-7cefcab94235
END:VEVENT
END:VCALENDAR
