BEGIN:VCALENDAR
PRODID:Nexudus
VERSION:2.0
BEGIN:VTIMEZONE
TZID:Europe/Paris
X-LIC-LOCATION:Europe/Paris
BEGIN:STANDARD
DTSTART:20241027T030000
RRULE:FREQ=YEARLY;BYDAY=-1SU;BYMONTH=10
TZNAME:CET
TZOFFSETFROM:+0200
TZOFFSETTO:+0100
END:STANDARD
BEGIN:DAYLIGHT
DTSTART:20250330T020000
RRULE:FREQ=YEARLY;BYDAY=-1SU;BYMONTH=3
TZNAME:CEST
TZOFFSETFROM:+0100
TZOFFSETTO:+0200
END:DAYLIGHT
END:VTIMEZONE
BEGIN:VEVENT
DESCRIPTION:Disfruta del los trabajos que los alumnos/as de nuestras Escuel
 as de Teatro\, Música\, Danza y Magia os ha preparado.\nDel 20 de Mayo al
  25 de Junio en TEATRO AVANTI. (Entrada Libre hasta completar aforo)\nEven
 t link: https://teatroavanti.spaces.nexudus.com/en/events/view/388030653/m
 uestra-escuela-de-teatro-avanti---grupo-zalagarda-adultos-jueves--16-junio
 ---viernes-21-00-horas----entrada-libre-hasta-completar-aforo-\n
DTEND;TZID=Europe/Paris:20170616T210000
DTSTAMP:20260422T225143Z
DTSTART;TZID=Europe/Paris:20170616T210000
LOCATION:Teatro Avanti
SEQUENCE:0
SUMMARY:MUESTRA ESCUELA DE TEATRO AVANTI - GRUPO ZALAGARDA ADULTOS JUEVES -
 16 JUNIO - VIERNES 21.00 HORAS - (Entrada Libre hasta completar aforo)
UID:0e0d6e74-444a-40b6-975c-f6fcf6e0dd97
END:VEVENT
END:VCALENDAR
