BEGIN:VCALENDAR
PRODID:Nexudus
VERSION:2.0
BEGIN:VTIMEZONE
TZID:Europe/Paris
X-LIC-LOCATION:Europe/Paris
BEGIN:STANDARD
DTSTART:20241027T030000
RRULE:FREQ=YEARLY;BYDAY=-1SU;BYMONTH=10
TZNAME:CET
TZOFFSETFROM:+0200
TZOFFSETTO:+0100
END:STANDARD
BEGIN:DAYLIGHT
DTSTART:20250330T020000
RRULE:FREQ=YEARLY;BYDAY=-1SU;BYMONTH=3
TZNAME:CEST
TZOFFSETFROM:+0100
TZOFFSETTO:+0200
END:DAYLIGHT
END:VTIMEZONE
BEGIN:VEVENT
DESCRIPTION:Disfruta del los trabajos que los alumnos/as de nuestras Escuel
 as de Teatro\, Música\, Danza y Magia os ha preparado.\nDel 20 de Mayo al
  25 de Junio en TEATRO AVANTI. (Entrada Libre hasta completar aforo)\nEven
 t link: https://teatroavanti.spaces.nexudus.com/en/events/view/388030651/e
 quipo-tim-burton-5-a-6-años----14-junio--miércoles-18-00-horas----entrad
 a-libre-hasta-completar-aforo-\n
DTEND;TZID=Europe/Paris:20170614T180000
DTSTAMP:20260422T225318Z
DTSTART;TZID=Europe/Paris:20170614T180000
LOCATION:Teatro Avanti
SEQUENCE:0
SUMMARY:EQUIPO TIM BURTON 5 A 6 AÑOS -  14 JUNIO- MIÉRCOLES 18.00 HORAS -
  (Entrada Libre hasta completar aforo)
UID:1458c6d3-2eec-431e-a319-b32568977f11
END:VEVENT
END:VCALENDAR
