BEGIN:VCALENDAR
PRODID:Nexudus
VERSION:2.0
BEGIN:VTIMEZONE
TZID:Europe/Paris
X-LIC-LOCATION:Europe/Paris
BEGIN:STANDARD
DTSTART:20241027T030000
RRULE:FREQ=YEARLY;BYDAY=-1SU;BYMONTH=10
TZNAME:CET
TZOFFSETFROM:+0200
TZOFFSETTO:+0100
END:STANDARD
BEGIN:DAYLIGHT
DTSTART:20250330T020000
RRULE:FREQ=YEARLY;BYDAY=-1SU;BYMONTH=3
TZNAME:CEST
TZOFFSETFROM:+0100
TZOFFSETTO:+0200
END:DAYLIGHT
END:VTIMEZONE
BEGIN:VEVENT
DESCRIPTION:Cía: Teatro Sí. (Cádiz)\nDos hombres solteros comparten piso
 . Uno trae el dinero a casa. El otro\,\nmuy afeminado\, se encarga de las 
 labores domésticas “siempre con su delantal\ny un abanico”. No son pa
 reja\, de hecho ninguno de los dos es homosexual\,\npese a lo que afirman 
 las habladurías del vecindario. La convivencia\nentre dos personas tan di
 ferentes provoca toda una serie de situaciones\nque derivan en la carcajad
 a\, con ese humor Gaditano tan característico\,\nprovocando constantement
 e la complicidad del público.\nEvent link: https://teatroavanti.spaces.ne
 xudus.com/en/events/view/334295969/dos-hombres-solos-sin-punto-com-ni-na--
 -viernes-12--21-00-h--y-sábado-13--19-00-y-22-00-h--mayo\n
DTEND;TZID=Europe/Paris:20170513T220000
DTSTAMP:20260423T001823Z
DTSTART;TZID=Europe/Paris:20170512T210000
LOCATION:Teatro Avanti
SEQUENCE:0
SUMMARY:DOS HOMBRES SOLOS SIN PUNTO COM NI NA - Viernes 12 (21:00 h) y Sáb
 ado 13 (19:00 y 22:00 h) MAYO
UID:bcb50f95-b00a-4f8c-a9b6-69c8218cc074
END:VEVENT
END:VCALENDAR
