BEGIN:VCALENDAR
PRODID:Nexudus
VERSION:2.0
BEGIN:VTIMEZONE
TZID:Europe/Paris
X-LIC-LOCATION:Europe/Paris
BEGIN:STANDARD
DTSTART:20241027T030000
RRULE:FREQ=YEARLY;BYDAY=-1SU;BYMONTH=10
TZNAME:CET
TZOFFSETFROM:+0200
TZOFFSETTO:+0100
END:STANDARD
BEGIN:DAYLIGHT
DTSTART:20250330T020000
RRULE:FREQ=YEARLY;BYDAY=-1SU;BYMONTH=3
TZNAME:CEST
TZOFFSETFROM:+0100
TZOFFSETTO:+0200
END:DAYLIGHT
END:VTIMEZONE
BEGIN:VEVENT
DESCRIPTION:VIERNES 28 DE ABRIL/21:00 H. ULTIMAS LOCALIDADES VENTA EN TAQUI
 LLA.\nSÁBADO 29 DE ABRIL/19:00 Y 22:00 H. SESION 19.00 H \n SESION 22.00 
 H LOCALIDADES AGOTADAS.\nDOMINGO 30 DE ABRIL/20:00 H. LOCALIDADES AGOTADAS
 . \nVIERNES 5 DE MAYO/21:00 H. LOCALIDADES AGOTADAS.\nSÁBADO 6 DE MAYO/19
 :00 Y 22:00 H.  SESION 19.00 H LOCALIDADES AGOTADAS. SESION 22.00 H LOCALI
 DADES AGOTADAS.\nDOMINGO 7 DE MAYO/20:00 H.  LOCALIDADES AGOTADAS.\nDOMING
 O 14 DE MAYO/20:00 H.  LOCALIDADES AGOTADAS.\nVIERNES 19 DE MAYO/21:00 H. 
 LOCALIDADES AGOTADAS. \nSÁBADO 20 DE MAYO/19:00 H Y 22:00 H. SESION 19.00
  H LOCALIDADES AGOTADAS. SESION 22.00 H LOCALIDADES AGOTADAS.\nDOMINGO 21 
 DE MAYO/20:00 H. LOCALIDADES AGOTADAS.\n\nLa obra indaga sobre lo que sign
 ifica ser mujer en un mundo\, el occidental\,\nque sigue siendo extremadam
 ente hostil a las mujeres. Su relación de pareja\ncon Javier o su amistad
  con Maite pasan a ser una metáfora de la peor\ncrisis económica\, socia
 l y política de la que todavía no nos hemos recuperado.\nComo dice la pr
 opia Susana: “ A veces anhelas tanto un cambio que no\nparas hasta que s
 e produce\, y al final no es lo qué precisamente te habías\nimaginado”
  para concluir con un “Todo se acaba. Y si no se acaba\, lo bueno\nes sa
 ber que las cosas suelen tener un final”\nEvent link: https://teatroavan
 ti.spaces.nexudus.com/en/events/view/334295968/dime-que-me-quieres-sin-que
 -te-lo-pregunte---desde-el--28-abril-al-21-de-mayo--13-representaciones-\n
DTEND;TZID=Europe/Paris:20170521T210000
DTSTAMP:20260423T001830Z
DTSTART;TZID=Europe/Paris:20170428T210000
LOCATION:Teatro Avanti
SEQUENCE:0
SUMMARY:DIME QUE ME QUIERES SIN QUE TE LO PREGUNTE - Desde el  28 Abril al 
 21 de Mayo (13 representaciones)
UID:e76949fc-6967-47e2-bfaa-7d003d004ecb
END:VEVENT
END:VCALENDAR
