BEGIN:VCALENDAR
PRODID:Nexudus
VERSION:2.0
BEGIN:VTIMEZONE
TZID:Europe/Paris
X-LIC-LOCATION:Europe/Paris
BEGIN:STANDARD
DTSTART:20241027T030000
RRULE:FREQ=YEARLY;BYDAY=-1SU;BYMONTH=10
TZNAME:CET
TZOFFSETFROM:+0200
TZOFFSETTO:+0100
END:STANDARD
BEGIN:DAYLIGHT
DTSTART:20250330T020000
RRULE:FREQ=YEARLY;BYDAY=-1SU;BYMONTH=3
TZNAME:CEST
TZOFFSETFROM:+0100
TZOFFSETTO:+0200
END:DAYLIGHT
END:VTIMEZONE
BEGIN:VEVENT
DESCRIPTION:Tengo un sueño\, vivir feliz como en las películas de Bollywo
 od. Quiero bailar\,\nreír y encontrar el amor de mi vida. Siempre hay un 
 final feliz en Bollywood.\nEste es mi sueño\, mis “Sueños de Bollywood
 ”.\nEvent link: https://teatroavanti.spaces.nexudus.com/en/events/view/3
 34295966/sueños-de-bollywood---viernes-21-abril--21-00-h-\n
DTEND;TZID=Europe/Paris:20170421T220000
DTSTAMP:20260423T001840Z
DTSTART;TZID=Europe/Paris:20170421T210000
LOCATION:Teatro Avanti
SEQUENCE:0
SUMMARY:SUEÑOS DE BOLLYWOOD - Viernes 21 Abril (21:00 h)
UID:3d5b4df2-281f-46dc-a488-640a60f97619
END:VEVENT
END:VCALENDAR
