BEGIN:VCALENDAR
PRODID:Nexudus
VERSION:2.0
BEGIN:VTIMEZONE
TZID:Europe/Paris
X-LIC-LOCATION:Europe/Paris
BEGIN:STANDARD
DTSTART:20241027T030000
RRULE:FREQ=YEARLY;BYDAY=-1SU;BYMONTH=10
TZNAME:CET
TZOFFSETFROM:+0200
TZOFFSETTO:+0100
END:STANDARD
BEGIN:DAYLIGHT
DTSTART:20250330T020000
RRULE:FREQ=YEARLY;BYDAY=-1SU;BYMONTH=3
TZNAME:CEST
TZOFFSETFROM:+0100
TZOFFSETTO:+0200
END:DAYLIGHT
END:VTIMEZONE
BEGIN:VEVENT
DESCRIPTION:Dorian\, un burro joven que vive la vida con una inmensa curios
 idad e inocencia\, pasta y corretea en su pradera junto con toda su famili
 a. Pep\, un león que es cazado mientras duerme y metido en una jaula de c
 irco. Ninguno de los dos se alcanzó a imaginar lo que iba a pasar. Un dí
 a llegan los humanos\, a los burros y al león les cambia la vida para sie
 mpre.\nEvent link: https://teatroavanti.spaces.nexudus.com/en/events/view/
 312238928/los-primeros-burritos---domingo-2-abril--12-00h--público-famili
 ar\n
DTEND;TZID=Europe/Paris:20170402T130000
DTSTAMP:20260423T014250Z
DTSTART;TZID=Europe/Paris:20170402T120000
LOCATION:Teatro Avanti
SEQUENCE:0
SUMMARY:LOS PRIMEROS BURRITOS - Domingo 2 Abril (12:00h) Público Familiar
UID:47049bac-5231-4d9b-90cd-e0ff843827d8
END:VEVENT
END:VCALENDAR
