BEGIN:VCALENDAR
PRODID:Nexudus
VERSION:2.0
BEGIN:VTIMEZONE
TZID:Europe/Paris
X-LIC-LOCATION:Europe/Paris
BEGIN:STANDARD
DTSTART:20241027T030000
RRULE:FREQ=YEARLY;BYDAY=-1SU;BYMONTH=10
TZNAME:CET
TZOFFSETFROM:+0200
TZOFFSETTO:+0100
END:STANDARD
BEGIN:DAYLIGHT
DTSTART:20250330T020000
RRULE:FREQ=YEARLY;BYDAY=-1SU;BYMONTH=3
TZNAME:CEST
TZOFFSETFROM:+0100
TZOFFSETTO:+0200
END:DAYLIGHT
END:VTIMEZONE
BEGIN:VEVENT
DESCRIPTION:Violeta\, recibe una invitación para el Baile de Parejas que t
 endrá lugar en la plaza del pueblo. A partir de este momento recibirá la
  visita de diferentes personajes que pretenden ser sus acompañantes. ¿Co
 nseguirá Violeta encontrar por fin la pareja ideal? ¿Alguien con quién 
 compartir su gusto por las flores\, y los paseos bajo la luz de la Luna.? 
 ¿Alguien con quién poder “bailar Rock&Roll”?\nEvent link: https://te
 atroavanti.spaces.nexudus.com/en/events/view/312238927/violeta-la-rateta--
 -sábado-1-de-abril--19-00-h----público-familliar\n
DTEND;TZID=Europe/Paris:20170401T200000
DTSTAMP:20260423T014300Z
DTSTART;TZID=Europe/Paris:20170401T190000
LOCATION:Teatro Avanti
SEQUENCE:0
SUMMARY:VIOLETA LA RATETA - Sábado 1 de Abril (19:00 h) - Público Familli
 ar
UID:cfdb08fc-f662-428a-86d3-968c28d0e8f8
END:VEVENT
END:VCALENDAR
