BEGIN:VCALENDAR
PRODID:Nexudus
VERSION:2.0
BEGIN:VTIMEZONE
TZID:Europe/Paris
X-LIC-LOCATION:Europe/Paris
BEGIN:STANDARD
DTSTART:20241027T030000
RRULE:FREQ=YEARLY;BYDAY=-1SU;BYMONTH=10
TZNAME:CET
TZOFFSETFROM:+0200
TZOFFSETTO:+0100
END:STANDARD
BEGIN:DAYLIGHT
DTSTART:20250330T020000
RRULE:FREQ=YEARLY;BYDAY=-1SU;BYMONTH=3
TZNAME:CEST
TZOFFSETFROM:+0100
TZOFFSETTO:+0200
END:DAYLIGHT
END:VTIMEZONE
BEGIN:VEVENT
DESCRIPTION:Cía: LA MILONGA FLAMENCA nos presenta:\nTANGO POR ALEGRIAS\nSu
  directo aúna toda la pasión y fuerza de la música y el baile flamenco\
 ncon la elegancia de algunos de los más bellos tangos del Río de la Plat
 a\,\nbailados al más puro estilo de allá y arreglados exquisitamente por
  músicos\nde alto nivel.\nEvent link: https://teatroavanti.spaces.nexudus
 .com/en/events/view/309300999/tango-por-alegrias--jueves-23-marzo--21-00h-
 --público-adulto\n
DTEND;TZID=Europe/Paris:20170323T230000
DTSTAMP:20260423T014411Z
DTSTART;TZID=Europe/Paris:20170323T210000
LOCATION:Teatro Avanti
SEQUENCE:0
SUMMARY:Tango por Alegrias -Jueves 23 Marzo (21:00h.) Público Adulto
UID:2c0e9922-1552-4f82-8931-b29d9cf8d4f8
END:VEVENT
END:VCALENDAR
