BEGIN:VCALENDAR
PRODID:Nexudus
VERSION:2.0
BEGIN:VTIMEZONE
TZID:Europe/Paris
X-LIC-LOCATION:Europe/Paris
BEGIN:STANDARD
DTSTART:20241027T030000
RRULE:FREQ=YEARLY;BYDAY=-1SU;BYMONTH=10
TZNAME:CET
TZOFFSETFROM:+0200
TZOFFSETTO:+0100
END:STANDARD
BEGIN:DAYLIGHT
DTSTART:20250330T020000
RRULE:FREQ=YEARLY;BYDAY=-1SU;BYMONTH=3
TZNAME:CEST
TZOFFSETFROM:+0100
TZOFFSETTO:+0200
END:DAYLIGHT
END:VTIMEZONE
BEGIN:VEVENT
DESCRIPTION:25 DE MARZO\nLA DAMA DUENDE\nAUTOR: CALDERON DE LA BARCA\nDIREC
 CION: CARMEN REY\nDURACION: 120MINUTOS\n- Doña Ángela es la dama duende\
 , joven viuda\, a la que sus dos hermanos tienen\nencerrada\, celosos y ob
 sesionados con los códigos del honor. La mantienen oculta\npero ella con 
 ayuda de su criada se las ingenia para salir\, el destino hará que en la\
 ncasa familiar entre un invitado y así el amor nacerá entre Doña Ángel
 a y el huésped.\nEvent link: https://teatroavanti.spaces.nexudus.com/en/e
 vents/view/304054760/xi-muestra-de-teatro-aficionado---venta-de-localidade
 s-solo-en-taquilla-del-teatro-entrada-unica-3-\n
DTEND;TZID=Europe/Paris:20170325T210000
DTSTAMP:20260423T014245Z
DTSTART;TZID=Europe/Paris:20170325T210000
LOCATION:Teatro Avanti
SEQUENCE:0
SUMMARY:XI MUESTRA DE TEATRO AFICIONADO - Venta de localidades solo en taqu
 illa del teatro-Entrada unica 3€
UID:0f9c3eff-deaf-4a0f-9c79-9d8afe3aa2ed
END:VEVENT
END:VCALENDAR
