BEGIN:VCALENDAR
PRODID:Nexudus
VERSION:2.0
BEGIN:VTIMEZONE
TZID:Europe/Paris
X-LIC-LOCATION:Europe/Paris
BEGIN:STANDARD
DTSTART:20241027T030000
RRULE:FREQ=YEARLY;BYDAY=-1SU;BYMONTH=10
TZNAME:CET
TZOFFSETFROM:+0200
TZOFFSETTO:+0100
END:STANDARD
BEGIN:DAYLIGHT
DTSTART:20250330T020000
RRULE:FREQ=YEARLY;BYDAY=-1SU;BYMONTH=3
TZNAME:CEST
TZOFFSETFROM:+0100
TZOFFSETTO:+0200
END:DAYLIGHT
END:VTIMEZONE
BEGIN:VEVENT
DESCRIPTION:24 DE MARZO\nDESCANSE EN PAZ...O NO\nCÍA. LA CORDOBANA\nAUTOR:
  RAFAEL DORADO GUTIERREZ\nDIRECCION: RAFAEL DORADO GUTIERREZ\nDURACION: 60
  MINUTOS\n- Juan ha muerto. En el tanatorio se encuentran su viuda su herm
 ana\, su cuñada\,\nsu mejor amiga y los empleados del tanatorio. Como dij
 o un famoso político:\n"En España se entierra muy bien a los muertos"...
 o tal vez no tan bien...meditenlo.\nEvent link: https://teatroavanti.space
 s.nexudus.com/en/events/view/304054759/aplazada-al-9-de-junio-21-00-h---po
 r-enfermedad-de-uno-de-los-componentes-de-la-compañia-\n
DTEND;TZID=Europe/Paris:20170324T210000
DTSTAMP:20260423T014300Z
DTSTART;TZID=Europe/Paris:20170324T210000
LOCATION:Teatro Avanti
SEQUENCE:0
SUMMARY:Aplazada al 9 de Junio 21.00 h. (por enfermedad de uno de los compo
 nentes de la compañia)
UID:257568d4-5986-4900-9f59-33cf563eb55a
END:VEVENT
END:VCALENDAR
