BEGIN:VCALENDAR
PRODID:Nexudus
VERSION:2.0
BEGIN:VTIMEZONE
TZID:Europe/Paris
X-LIC-LOCATION:Europe/Paris
BEGIN:STANDARD
DTSTART:20241027T030000
RRULE:FREQ=YEARLY;BYDAY=-1SU;BYMONTH=10
TZNAME:CET
TZOFFSETFROM:+0200
TZOFFSETTO:+0100
END:STANDARD
BEGIN:DAYLIGHT
DTSTART:20250330T020000
RRULE:FREQ=YEARLY;BYDAY=-1SU;BYMONTH=3
TZNAME:CEST
TZOFFSETFROM:+0100
TZOFFSETTO:+0200
END:DAYLIGHT
END:VTIMEZONE
BEGIN:VEVENT
DESCRIPTION:04 DE MARZO\nBODAS DE SANGRE\nCÍA. ASOCIACIÓN PONTANAS\nAUTOR
 : FEDERICO GARCÍA LORCA\nDIRECCION:CARMEN REY\nDURACION: 100 MINUTOS\n- C
 on esta obra\, Lorca consigue hacer de ella uno de sus mejores trabajos a 
 base\nde la tragedia\, ya que todos los protagonistas mueren o viven sin m
 otivo\, guardando\nsus penas en su interior.\nEvent link: https://teatroav
 anti.spaces.nexudus.com/en/events/view/304054753/xi-muestra-de-teatro-afic
 ionado---venta-de-localidades-solo-en-taquilla-del-teatro-entrada-unica-3-
 \n
DTEND;TZID=Europe/Paris:20170304T210000
DTSTAMP:20260423T030546Z
DTSTART;TZID=Europe/Paris:20170304T210000
LOCATION:Teatro Avanti
SEQUENCE:0
SUMMARY:XI MUESTRA DE TEATRO AFICIONADO - Venta de localidades solo en taqu
 illa del teatro-Entrada unica 3€
UID:fecfd78d-e42f-4f3d-9be0-de202a4ff093
END:VEVENT
END:VCALENDAR
