BEGIN:VCALENDAR
PRODID:Nexudus
VERSION:2.0
BEGIN:VTIMEZONE
TZID:Europe/Paris
X-LIC-LOCATION:Europe/Paris
BEGIN:STANDARD
DTSTART:20241027T030000
RRULE:FREQ=YEARLY;BYDAY=-1SU;BYMONTH=10
TZNAME:CET
TZOFFSETFROM:+0200
TZOFFSETTO:+0100
END:STANDARD
BEGIN:DAYLIGHT
DTSTART:20250330T020000
RRULE:FREQ=YEARLY;BYDAY=-1SU;BYMONTH=3
TZNAME:CEST
TZOFFSETFROM:+0100
TZOFFSETTO:+0200
END:DAYLIGHT
END:VTIMEZONE
BEGIN:VEVENT
DESCRIPTION:\nEvent link: https://teatroavanti.spaces.nexudus.com/en/events
 /view/293722446/descargate-aqui-todo-el-programa-de-la-muestra\n
DTEND;TZID=Europe/Paris:20170225T000000
DTSTAMP:20260423T030643Z
DTSTART;TZID=Europe/Paris:20170211T010000
LOCATION:Teatro Avanti
SEQUENCE:0
SUMMARY:DESCARGATE AQUI TODO EL PROGRAMA DE LA MUESTRA
UID:7b5acdc1-4114-47e9-8dcf-fa16bf8f2c4c
END:VEVENT
END:VCALENDAR
